BEGIN:VCALENDAR
VERSION:2.0
PRODID:-//ChamberMaster//Event Calendar 2.0//EN
METHOD:PUBLISH
X-PUBLISHED-TTL:P3D
REFRESH-INTERVAL:P3D
CALSCALE:GREGORIAN
BEGIN:VEVENT
DTSTART:20140121T173000Z
DTEND:20140121T190000Z
X-MICROSOFT-CDO-ALLDAYEVENT:FALSE
SUMMARY:Understanding Healthcare Exchange - Canceled
DESCRIPTION:Canceled\n\nUnderstanding the Healthcare Exchange\n\nTuesday\, January 21\, 2014 \n\n11:30 am to 1 pm\n\n\n\nThe Health Insurance Marketplace is a reality. It's on the radar of most Americans\, with the expectation to change and adapt quickly for both individuals and employers.  Aurora is reaching out to those most affected by the changes that take effect January 1. We're partnering with organizations to educate and provide supportive information for the community we serve.\n\n\n\nThis session will provide a helpful overview and big picture look at the ACA (Affordable Care Act) changes. It will also allow you to network with other community members and business leaders on this current topic that impacts the lives of many.\n\n\n\nJoin us for this informative session led by Lori Hundertmark\, Director of Clinical Operations\, with Aurora Advanced Healthcare.\n\n\n\nTuesday's Topic\n\nUnderstanding the Healthcare Exchange\n\nTuesday\, January 21\, 2014   11:30 am to 1 pm\n\nAurora Advanced Healthcare Hartford Clinic\n\n1640 E. Sumner Street\, Hartford\n\n \n\nPre-registration is required as seating is limited!\n\n\n\nRSVPs to  info@hartfordchamber.org or (262) 673-7002\n\nCOST:  $12 per person & includes lunch\n\nCash or checks payable to Hartford Area Chamber\n\n\n\n\n\nTUESDAY'S TOPIC\n\nHeld the third Tuesday of each month\, Tuesday's Topic is an opportunity for members to get up to speed on a number of topics such as safety and security\, health and wellness\, chamber benefits and other business related-topics. All sessions are held during the lunch hour.  Meetings begin with registration\, lunch and networking\, followed by the featured presentation.
X-ALT-DESC;FMTTYPE=text/html:<span style="language:EN\;"><span style="font-family:candara\;"><span style="font-size:9.0pt\;"><span style="font-size:18px\;"><span style="font-weight: bold\;"><span style="font-family: candara\;"><span style="color:#b22222\;"><em><strong>Canceled</strong></em></span><br />\nUnderstanding the Healthcare Exchange</span></span></span><br />\n<span style="font-weight:bold\;language:EN\;"><span style="font-family:candara\;"><span style="font-size:11.0pt\;"><span style="font-size:16px\;">Tuesday\, January 21\, 2014 </span><br />\n11:30 am to 1 pm</span></span></span><br />\n<br />\nThe Health Insurance Marketplace is a reality. It&#39\;s&nbsp\;on the radar of most Americans\,&nbsp\;with the expectation&nbsp\;to change and adapt quickly&nbsp\;for&nbsp\;both individuals and employers. &nbsp\;Aurora is reaching out to those most affected by the changes that take effect January 1. We&#39\;re partnering with&nbsp\;organizations to educate and provide supportive information for&nbsp\;the community we serve.</span></span></span><br />\n<br />\n<span style="language:EN\;"><span style="font-family:candara\;"><span style="font-size:9.0pt\;">This session will provide a&nbsp\;helpful overview and big picture look at the ACA (Affordable Care Act) changes.&nbsp\;It will also allow you to network with other community members and business leaders on this current topic that impacts the lives of many.</span></span></span><br />\n<br />\n<span style="language:EN\;"><span style="font-family:candara\;"><span style="font-size:9.0pt\;">Join us for this informative session led by Lori Hundertmark\, Director of Clinical Operations\, with Aurora Advanced Healthcare.</span></span></span><br />\n<br />\n<span style="font-weight:bold\;text-transform:uppercase\;language:EN\;"><span style="font-family:candara\;"><span style="font-size:11.0pt\;">Tuesday&rsquo\;s Topic</span></span></span><br />\n<span style="font-weight:bold\;language:EN\;"><span style="font-family:candara\;"><span style="font-size:12.0pt\;">Understanding the Healthcare Exchange</span></span></span><br />\n<span style="font-weight:bold\;language:EN\;"><span style="font-family:candara\;"><span style="font-size:11.0pt\;">Tuesday\, January 21\, 2014 &mdash\; 11:30 am to 1 pm</span></span></span><br />\n<span style="language:EN\;"><span style="font-family:candara\;"><span style="font-size:11.0pt\;">Aurora Advanced Healthcare&ndash\;Hartford Clinic</span></span></span><br />\n<span style="language:EN\;"><span style="font-family:candara\;"><span style="font-size:9.0pt\;">1640 E. Sumner Street\, Hartford</span></span></span><br />\n&nbsp\;<br />\n<span style="font-weight:bold\;language:EN\;"><span style="font-family:candara\;"><span style="font-size:9.0pt\;">Pre-registration is required as seating is limited!</span></span></span><br />\n<br />\n<span style="font-weight:bold\;language:EN\;"><span style="font-family:candara\;"><span style="font-size:9.0pt\;">RSVPs to&nbsp\; info@hartfordchamber.org or (262) 673-7002</span></span></span><br />\n<span style="font-weight:bold\;language:EN\;"><span style="font-family:candara\;"><span style="font-size:9.0pt\;">COST:</span></span></span>&nbsp\; <span style="font-weight:bold\;language:EN\;"><span style="font-family:candara\;">$12 per person &amp\; includes lunch</span></span><br />\n<span style="font-style:italic\;language:EN\;"><span style="font-family:candara\;"><span style="font-size:8.0pt\;">Cash or checks payable to Hartford Area Chamber</span></span></span><br />\n<br />\n<br />\n<strong>TUESDAY&#39\;S TOPIC</strong><br />\n<span style="language:EN\;"><span style="font-family:candara\;"><span style="font-size:9.0pt\;">Held the third Tuesday of each month\, </span></span></span><span style="font-variant:small-caps\;language:EN\;"><span style="font-family:candara\;"><span style="font-size:9.0pt\;">Tuesday&rsquo\;s Topic </span></span></span><span style="language:EN\;"><span style="font-family:candara\;"><span style="font-size:9.0pt\;">is an opportunity for members to get up to speed on a number of topics such as safety and security\, health and wellness\, chamber benefits and other business related-topics. All sessions are held during the lunch hour.</span></span></span>&nbsp\; <span style="language:EN\;"><span style="font-family:candara\;"><span style="font-size:9.0pt\;">Meetings begin with registration\, lunch and networking\, followed by the featured presentation. </span></span></span><br />\n<br />\n
LOCATION:Aurora Advanced Healthcare Hartford Clinic 1640 E. Sumner Street Hartford
UID:e.898.2890
SEQUENCE:3
DTSTAMP:20260421T152433Z
URL:https://business.hartfordareachamber.org/events/details/understanding-healthcare-exchange-canceled-01-21-2014-2890
END:VEVENT

END:VCALENDAR
