BEGIN:VCALENDAR
VERSION:2.0
PRODID:-//ChamberMaster//Event Calendar 2.0//EN
METHOD:PUBLISH
X-PUBLISHED-TTL:P3D
REFRESH-INTERVAL:P3D
CALSCALE:GREGORIAN
BEGIN:VEVENT
DTSTART:20130521T200000Z
DTEND:20130521T220000Z
X-MICROSOFT-CDO-ALLDAYEVENT:FALSE
SUMMARY:United Way~GRAND OPENING
DESCRIPTION:United Way Resource Center\n\nGrand Opening\n\nTuesday\, May 21\n\n3:00 - 5:00 pm\n\n(Ribbon Cutting with Hartford Area Chamber at 4:00 pm!)\n\n\n\n1121 E. Sumner Street\, Hartford\n\n(Located directly across from the Aurora Medical Center)\n\nParking in the rear of the building off of Bell Street\n\n\n\nCOME - TOUR- LEARN...about the resources and programs that will be available to Hartford area residents.\n\n\n\nThe United Way Resource Center ~\n\nA new facility in Hartford to connect area residents with nonprofit and Washington County program services.  Learn how your employees and neighbors in need can benefit from this new resource in the Hartford community.\n\n\n\nPlease RSVP by Wednesday\, May 15 to:\n\nclimburg@unitedwayofwashingtoncounty.org or\n\n262-338-3821
X-ALT-DESC;FMTTYPE=text/html:<span style="font-size: 16px\;"><strong>United Way Resource Center<br />\nGrand Opening</strong></span><br />\n<span style="font-size: 14px\;"><span style="font-size: 12px\;">Tuesday\, May 21<br />\n3:00 - 5:00 pm<br />\n(Ribbon Cutting with Hartford Area Chamber at 4:00 pm!)<br />\n<br />\n1121 E. Sumner Street\, Hartford<br />\n(Located directly across from the Aurora Medical Center)<br />\nParking in the rear of the building off of Bell Street</span></span><br />\n<br />\n<strong><span style="font-size: 14px\;"><span style="font-size: 12px\;">COME - TOUR- </span></span></strong><strong><span style="font-size: 14px\;"><span style="font-size: 12px\;">LEARN...</span></span></strong><span style="font-size: 14px\;"><span style="font-size: 12px\;">about</span></span><span style="font-size: 14px\;"><span style="font-size: 12px\;"> the resources and programs that will be available to Hartford area residents.<br />\n<br />\nThe United Way Resource Center ~<br />\nA new facility in Hartford to connect area residents with nonprofit and Washington County program services.&nbsp\; Learn how your employees and neighbors in need can benefit from this new resource in the Hartford community.</span></span><br />\n<br />\n<span style="font-size: 14px\;"><span style="font-size: 12px\;"><strong>Please RSVP by Wednesday\, May 15 </strong>to:<br />\nclimburg@unitedwayofwashingtoncounty.org or<br />\n262-338-3821</span></span>
LOCATION:United Way Resource Center 1121 E. Sumner Street\, Hartford (Located directly across from the Aurora Medical Center) Parking in the rear of the building off of Bell Street
UID:e.898.1815
SEQUENCE:3
DTSTAMP:20260419T135412Z
URL:https://business.hartfordareachamber.org/events/details/united-way-grand-opening-05-21-2013-1815
END:VEVENT

END:VCALENDAR
