BEGIN:VCALENDAR
VERSION:2.0
PRODID:-//ChamberMaster//Event Calendar 2.0//EN
METHOD:PUBLISH
X-PUBLISHED-TTL:P3D
REFRESH-INTERVAL:P3D
CALSCALE:GREGORIAN
BEGIN:VEVENT
DTSTART:20140721T140000Z
DTEND:20140725T170000Z
X-MICROSOFT-CDO-ALLDAYEVENT:FALSE
SUMMARY:Vacation Bible School
DESCRIPTION:Divine Savior Lutheran Church\n\nVacation Bible School\n\n\n\nWorkshop of Wonders: Imagine and Build with God \n\n\n\nDiscover how the ordinary becomes extraordinary with God!\n\n\n\nMeet people from the Bible who used what they had to produce something amazing with God! Use your heart\, mind\, and imagination to participate in the creative life of God\, the One who works wonders!\n\n\n\nCome and join the adventure!\n\n\n\nNo fee! Vacation Bible School is free!\n\n\n\nRegister: Children who will turn four years old by September 1\, 2014\; through those entering 5th grade this fall.
X-ALT-DESC;FMTTYPE=text/html:Divine Savior Lutheran Church<br />\nVacation Bible School<br />\n<br />\n<span style="font-size:18px\;"><strong>Workshop of Wonders: Imagine and Build with God </strong></span><br />\n<br />\nDiscover how the ordinary becomes extraordinary with God!<br />\n<br />\nMeet people from the Bible who used what they had to produce something amazing with God! Use your heart\, mind\, and imagination to participate in the creative life of God\, the One who works wonders!<br />\n<br />\nCome and join the adventure!<br />\n<br />\nNo fee! Vacation Bible School is free!<br />\n<br />\nRegister: Children who will turn four years old by September 1\, 2014\; through those entering 5th grade this fall.<br />\n<br />\n<br />\n&nbsp\;
LOCATION:Divine Savior Lutheran Church 3200 Hwy K South\; at East Monroe Hartford\, 53027
UID:e.898.3165
SEQUENCE:3
DTSTAMP:20260421T030643Z
URL:https://business.hartfordareachamber.org/events/details/vacation-bible-school-07-21-2014-3165
END:VEVENT

END:VCALENDAR
