BEGIN:VCALENDAR
VERSION:2.0
PRODID:-//ChamberMaster//Event Calendar 2.0//EN
METHOD:PUBLISH
X-PUBLISHED-TTL:P3D
REFRESH-INTERVAL:P3D
CALSCALE:GREGORIAN
BEGIN:VEVENT
DTSTART:20130715T140000Z
DTEND:20130719T170000Z
X-MICROSOFT-CDO-ALLDAYEVENT:FALSE
SUMMARY:Vacation Bible School at Divine Savior Lutheran Church
DESCRIPTION:Vacation Bible School\n\n"Everywhere Fun Fair" \n\nDivine Savior Lutheran Church- Hartford\, WI\n\nFor children who will turn 4 years old by Sept. 1 through those entering 5th grade.
X-ALT-DESC;FMTTYPE=text/html:<strong><span style="font-size: 16px\;">Vacation Bible School<br />\n&quot\;Everywhere Fun Fair&quot\;&nbsp\;</span></strong><br />\nDivine Savior Lutheran Church- Hartford\, WI<br />\nFor children who will turn 4 years old by Sept. 1 through those entering 5th grade.
LOCATION:Divine Savior Lutheran Church\, Hartford\, WI 3200 Highway K South at East Monroe Ave\, Hartford\, WI 53027
UID:e.898.2581
SEQUENCE:3
DTSTAMP:20260422T011734Z
URL:https://business.hartfordareachamber.org/events/details/vacation-bible-school-at-divine-savior-lutheran-church-07-15-2013-2581
END:VEVENT

END:VCALENDAR
