BEGIN:VCALENDAR
VERSION:2.0
PRODID:-//ChamberMaster//Event Calendar 2.0//EN
METHOD:PUBLISH
X-PUBLISHED-TTL:P3D
REFRESH-INTERVAL:P3D
CALSCALE:GREGORIAN
BEGIN:VEVENT
DTSTART:20120407T180000Z
DTEND:20120407T210000Z
X-MICROSOFT-CDO-ALLDAYEVENT:FALSE
SUMMARY:Van Beek Liquor Spring Fling
DESCRIPTION:Beer & Wine Tasting Event\n\n	\n\n	Stop in and see the Shock Top car in person!\n\n	\n\n	Also included:\n\n	Free Food Samples!
X-ALT-DESC;FMTTYPE=text/html:<p>\n	<span style="font-size: 14px"><span style="font-family: verdana"><span style="color: #0000ff"><strong>Beer &amp\; Wine Tasting Event</strong></span><br />\n	<br />\n	Stop in and see the Shock Top car in person!<br />\n	<br />\n	<em>Also included:</em><br />\n	<strong>Free </strong>Food Samples!</span></span></p>\n
LOCATION:Van Beek Liquor 714 E. Sumner Street Hartford\, WI 53027
UID:e.898.1150
SEQUENCE:3
DTSTAMP:20260420T094559Z
URL:https://business.hartfordareachamber.org/events/details/van-beek-liquor-spring-fling-04-07-2012-1150
END:VEVENT

END:VCALENDAR
