BEGIN:VCALENDAR
VERSION:2.0
PRODID:-//ChamberMaster//Event Calendar 2.0//EN
METHOD:PUBLISH
X-PUBLISHED-TTL:P3D
REFRESH-INTERVAL:P3D
CALSCALE:GREGORIAN
BEGIN:VEVENT
DTSTART:20131116T160000Z
DTEND:20131116T210000Z
X-MICROSOFT-CDO-ALLDAYEVENT:FALSE
SUMMARY:Vendor Fair
DESCRIPTION:Highland Hall Vendor Fair\n\n	Saturday\, Nov. 16\, 2013 10am-3pm\n\n	skin care\, jewelry\, household goods\, cooking items\, everything under one roof!\n\n	Start your Christmas Shopping Now!!
X-ALT-DESC;FMTTYPE=text/html:<p>\n	<span style="font-size: 14px\;"><strong>Highland Hall Vendor Fair</strong></span><br />\n	Saturday\, Nov. 16\, 2013 10am-3pm<br />\n	skin care\, jewelry\, household goods\, cooking items\, everything under one roof!</p>\n<p>\n	Start your Christmas Shopping Now!!</p>\n
LOCATION:Highland Hall Hartford Senior Center 730 Highland Avenue Hartford\, WI 53027
UID:e.898.2828
SEQUENCE:3
DTSTAMP:20260421T183646Z
URL:https://business.hartfordareachamber.org/events/details/vendor-fair-11-16-2013-2828
END:VEVENT

END:VCALENDAR
