BEGIN:VCALENDAR
VERSION:2.0
PRODID:-//ChamberMaster//Event Calendar 2.0//EN
METHOD:PUBLISH
X-PUBLISHED-TTL:P3D
REFRESH-INTERVAL:P3D
CALSCALE:GREGORIAN
BEGIN:VEVENT
DTSTART:20120519T180000Z
DTEND:20120519T200000Z
X-MICROSOFT-CDO-ALLDAYEVENT:FALSE
SUMMARY:Vesper Guitar Luthier Neal Van Slett
DESCRIPTION:56 Years\n\nGolden Birthday\n\n1956-2012\n\n\n\nHartford Music Center presents\n\nMeet & Greet\n\nSaturday\,May 19 - 1pm-3pm\n\n\n\nVesper Guitar \n\nLuthier \n\nNeal Van Slett\n\n\n\nVesper Guitar used in Performance by:\n\n	\n		Casting Crowns\n	\n		Rush of Fools\n	\n		John Waller\n	\n		Dannen Kane\n	\n		Chris Sligh\n	\n		Blue Tree\n	\n		Ira DeBoer\n	\n		Jimmy Needhan\n\n\n\nwww.vesperguitars.com\n\nwww.hartfordmusiccenter.com\n\n\n\n1350 East Sumner Street\n\nHartford\, WI 53027\n\n262-673-4740
X-ALT-DESC;FMTTYPE=text/html:<span style="color: #daa520"><strong><span style="font-size: 14px">56 Years</span></strong></span><br />\n<span style="font-size: 16px"><strong><span style="color: #daa520">Golden Birthday</span></strong></span><br />\n<span style="font-size: 14px">1956-2012</span><br />\n<br />\n<strong><span style="font-size: 18px">Hartford Music Center</span></strong> presents<br />\n<em><span style="font-size: 14px">Meet &amp\; Greet<br />\nSaturday\,May 19 - 1pm-3pm</span></em><br />\n<br />\n<strong><span style="font-size: 18px">Vesper Guitar</span><span style="font-size: 18px"> </span><br />\n<span style="font-size: 18px">Luthier</span><span style="font-size: 18px"><strong> </strong><br />\n<span style="font-size: 22px">Neal Van Slett</span></span></strong><br />\n<br />\n<em>Vesper Guitar used in Performance by:</em>\n<ul>\n	<li>\n		Casting Crowns</li>\n	<li>\n		Rush of Fools</li>\n	<li>\n		John Waller</li>\n	<li>\n		Dannen Kane</li>\n	<li>\n		Chris Sligh</li>\n	<li>\n		Blue Tree</li>\n	<li>\n		Ira DeBoer</li>\n	<li>\n		Jimmy Needhan</li>\n</ul>\n<br />\nwww.vesperguitars.com<br />\n<a href="http://www.hartfordmusiccenter.com">www.hartfordmusiccenter.com</a><br />\n<br />\n<strong>1350 East Sumner Street</strong><br />\n<strong>Hartford\, WI 53027</strong><br />\n262-673-4740
LOCATION:HARTFORD MUSIC CENTER 1350 East Sumner Street Hartford\, WI 53027 262.673.4740
UID:e.898.1198
SEQUENCE:3
DTSTAMP:20260420T074336Z
URL:https://business.hartfordareachamber.org/events/details/vesper-guitar-luthier-neal-van-slett-05-19-2012-1198
END:VEVENT

END:VCALENDAR
