BEGIN:VCALENDAR
VERSION:2.0
PRODID:-//ChamberMaster//Event Calendar 2.0//EN
METHOD:PUBLISH
X-PUBLISHED-TTL:P3D
REFRESH-INTERVAL:P3D
CALSCALE:GREGORIAN
BEGIN:VEVENT
DTSTART:20141113T010000Z
DTEND:20141113T023000Z
X-MICROSOFT-CDO-ALLDAYEVENT:FALSE
SUMMARY:Vesper Guitar - NEAL VAN SLETT\, luthier and designer of the Wisconsin-made guitar
DESCRIPTION:The Hartford Public Library and Friends of the Hartford Library present NEAL VAN SLETT\, luthier and designer of the Wisconsin-made Vesper Guitar.\n\n\n\nVesper Guitars\, based in Germantown\, WI\, produces one-of-a-kind\, hand-made acoustic and electric guitars.\n\n\n\nNeal Van Slett\, owner and luthier of Vesper selects fine woods from around the world to build his guitars. Each Vesper Guitar is a truly unique work of art.
X-ALT-DESC;FMTTYPE=text/html:The Hartford Public Library and Friends of the Hartford Library present NEAL VAN SLETT\, luthier and designer of the Wisconsin-made Vesper Guitar.<br />\n<br />\nVesper Guitars\, based in Germantown\, WI\, produces one-of-a-kind\, hand-made acoustic and electric guitars.<br />\n<br />\nNeal Van Slett\, owner and luthier of Vesper selects fine woods from around the world to build his guitars. Each Vesper Guitar is a truly unique work of art.
LOCATION:Jack Russell Memorial Library 100 Park Ave. Hartford\, WI
UID:e.898.3277
SEQUENCE:3
DTSTAMP:20260420T204107Z
URL:https://business.hartfordareachamber.org/events/details/vesper-guitar-neal-van-slett-luthier-and-designer-of-the-wisconsin-made-guitar-11-12-2014-3277
END:VEVENT

END:VCALENDAR
