BEGIN:VCALENDAR
VERSION:2.0
PRODID:-//ChamberMaster//Event Calendar 2.0//EN
METHOD:PUBLISH
X-PUBLISHED-TTL:P3D
REFRESH-INTERVAL:P3D
CALSCALE:GREGORIAN
BEGIN:VEVENT
DTSTART;VALUE=DATE:20121111
DTEND;VALUE=DATE:20121112
TRANSP:TRANSPARENT
X-MICROSOFT-CDO-ALLDAYEVENT:TRUE
SUMMARY:Veterans Day FREE ADMISSION
DESCRIPTION:Free admission all day\n\nto the Old Courthouse Museum\n\nafter the Veterans' Day Celebration\n\non the Memorial Plaza!
X-ALT-DESC;FMTTYPE=text/html:Free admission all day<br />\nto the Old Courthouse Museum<br />\nafter the Veterans&#39\; Day Celebration<br />\non the Memorial Plaza!
LOCATION:320 S 5th Ave West Bend\, WI 53095
UID:e.898.1595
SEQUENCE:3
DTSTAMP:20260419T222638Z
URL:https://business.hartfordareachamber.org/events/details/veterans-day-free-admission-11-11-2012-1595
END:VEVENT

END:VCALENDAR
