BEGIN:VCALENDAR
VERSION:2.0
PRODID:-//ChamberMaster//Event Calendar 2.0//EN
METHOD:PUBLISH
X-PUBLISHED-TTL:P3D
REFRESH-INTERVAL:P3D
CALSCALE:GREGORIAN
BEGIN:VEVENT
DTSTART:20130615T220000Z
DTEND:20130616T000000Z
X-MICROSOFT-CDO-ALLDAYEVENT:FALSE
SUMMARY:Vintage Baseball Game: Milwaukee Greys vs. Greenbush Dead Citys
DESCRIPTION:"PLAY APPLE!" \n\n	That is what a base ball was called in the mid-nineteenth century.\n\n	The Washington County Historical presents a family fun evening as the Greenbush Dead Cities and the Milwaukee Grays square off under 1860s rules.  Enjoy 1860s entrance fees of 10  per person with a Father's Day special of 5  for dads!  The evening will include hot dogs\, sodas and other treats.  Buy a raffle ticket for a chance to win great prizes and kids can join the players after the game.\n\n	Bring a lawn chair or a blanket and your best cheers.
X-ALT-DESC;FMTTYPE=text/html:<p>\n	&ldquo\;<strong>PLAY APPLE!&rdquo\;</strong>&nbsp\;<br />\n	That is what a base ball was called in the mid-nineteenth century.</p>\n<p>\n	The Washington County Historical presents a family fun evening as the Greenbush Dead Cities and the Milwaukee Grays square off under 1860s rules.&nbsp\; Enjoy 1860s entrance fees of 10&cent\; per person with a Father&rsquo\;s Day special of 5&cent\; for dads!&nbsp\; The evening will include hot dogs\, sodas and other treats.&nbsp\; Buy a raffle ticket for a chance to win great prizes and kids can join the players after the game.</p>\n<p>\n	Bring a lawn chair or a blanket and your best cheers.</p>\n
LOCATION:Sandy Knoll County Park Shelter #2 2064 Wallace Lake Road\, Town of Trenton
UID:e.898.2510
SEQUENCE:3
DTSTAMP:20260419T121512Z
URL:https://business.hartfordareachamber.org/events/details/vintage-baseball-game-milwaukee-greys-vs-greenbush-dead-citys-06-15-2013-2510
END:VEVENT

END:VCALENDAR
