BEGIN:VCALENDAR
VERSION:2.0
PRODID:-//ChamberMaster//Event Calendar 2.0//EN
METHOD:PUBLISH
X-PUBLISHED-TTL:P3D
REFRESH-INTERVAL:P3D
CALSCALE:GREGORIAN
BEGIN:VEVENT
DTSTART:20120919T000000Z
DTEND:20120919T013000Z
X-MICROSOFT-CDO-ALLDAYEVENT:FALSE
SUMMARY:Visit to Wisconsin Automotive Museum
DESCRIPTION:Join the Washington County Historical Society on a visit to the Wisconsin Automotive Museum in Hartford. Over 105 classic and vintage cars along with other artifacts are showcased at Wisconsin's largest automotive museum. Tour the museum and see a Hartford built Kissel Kar and Nash made in Kenosha among many others.\n\n\n\nHistorical Society Members receive free admission for this event with your coupon in the next issue of the Court Reporter. Non-members who join that night will get in free\, otherwise the group rate discount of $7 per person applies.
X-ALT-DESC;FMTTYPE=text/html:Join the Washington County Historical Society on a visit to the Wisconsin Automotive Museum in Hartford. Over 105 classic and vintage cars along with other artifacts are showcased at Wisconsin&rsquo\;s largest automotive museum. Tour the museum and see a Hartford built Kissel Kar and Nash made in Kenosha among many others.<br />\n<br />\nHistorical Society Members receive free admission for this event with your coupon in the next issue of the Court Reporter. Non-members who join that night will get in free\, otherwise the group rate discount of $7 per person applies.<br />\n
LOCATION:Wisconsin Automotive Museum\, 147 N Rural St.\, Hartford\, WI 53027
UID:e.898.1593
SEQUENCE:3
DTSTAMP:20260422T174025Z
URL:https://business.hartfordareachamber.org/events/details/visit-to-wisconsin-automotive-museum-09-18-2012-1593
END:VEVENT

END:VCALENDAR
