BEGIN:VCALENDAR
VERSION:2.0
PRODID:-//ChamberMaster//Event Calendar 2.0//EN
METHOD:PUBLISH
X-PUBLISHED-TTL:P3D
REFRESH-INTERVAL:P3D
CALSCALE:GREGORIAN
BEGIN:VEVENT
DTSTART:20190601T130000Z
DTEND:20190601T190000Z
X-MICROSOFT-CDO-ALLDAYEVENT:FALSE
SUMMARY:Volunteers for a Beautiful HartfordYearly Plant Sale
DESCRIPTION:Stop in during Hartford city wide rummage to see what's growing at Volunteers for a Beautiful Hartford's yearly plant sale and fundraiser. Many exciting varrieties. Proceeds go to making the City of Hartford more FLOWERFUL!
X-ALT-DESC;FMTTYPE=text/html:Stop in during Hartford city wide rummage to see what&#39\;s growing at Volunteers for a Beautiful Hartford&#39\;s yearly plant sale and fundraiser. Many exciting varrieties. Proceeds go to making the City of Hartford more FLOWERFUL!
LOCATION:Rotary Gazebo - on the corners of Grand Avenue and Sumner Street.
UID:e.898.5917
SEQUENCE:3
DTSTAMP:20260419T152209Z
URL:https://business.hartfordareachamber.org/events/details/volunteers-for-a-beautiful-hartfordyearly-plant-sale-5917
END:VEVENT

END:VCALENDAR
