BEGIN:VCALENDAR
VERSION:2.0
PRODID:-//ChamberMaster//Event Calendar 2.0//EN
METHOD:PUBLISH
X-PUBLISHED-TTL:P3D
REFRESH-INTERVAL:P3D
CALSCALE:GREGORIAN
BEGIN:VEVENT
DTSTART:20120909T140000Z
DTEND:20120909T200000Z
X-MICROSOFT-CDO-ALLDAYEVENT:FALSE
SUMMARY:WALK for the Animals
DESCRIPTION:
X-ALT-DESC;FMTTYPE=text/html:
LOCATION:Jackson Park on Jackson Street in Jackson
UID:e.898.846
SEQUENCE:3
DTSTAMP:20260422T175330Z
URL:https://business.hartfordareachamber.org/events/details/walk-for-the-animals-09-09-2012-846
END:VEVENT

END:VCALENDAR
