BEGIN:VCALENDAR
VERSION:2.0
PRODID:-//ChamberMaster//Event Calendar 2.0//EN
METHOD:PUBLISH
X-PUBLISHED-TTL:P3D
REFRESH-INTERVAL:P3D
CALSCALE:GREGORIAN
BEGIN:VEVENT
DTSTART;VALUE=DATE:20160319
DTEND;VALUE=DATE:20160320
TRANSP:TRANSPARENT
X-MICROSOFT-CDO-ALLDAYEVENT:TRUE
SUMMARY:WASHINGTON CO. HUMANE SOCIETY FUNDRAISER
DESCRIPTION:It's a Birthday Party/Humane Society Fundraiser!\n\nSat. March 19th\n\n15% of Sales Donated to WCHS\n\nNow through March 19th...\n\nRegister to Win a $50.00 GIFT CARD\n\n(see in-store or facebook for more details! https://www.facebook.com/events/989525077770135/)\n\n\n\nJoin us March 19th for Birthday Cake\, Popcorn\, Refreshments and fun!
X-ALT-DESC;FMTTYPE=text/html:<div style="text-align: center\;"><br />\n<span style="font-size:18px"><strong><span style="color:rgb(255\, 51\, 204)"><em>It&#39\;s a Birthday Party/Humane Society Fundraiser!</em></span></strong><br />\nSat. March&nbsp\;19th<br />\n<strong>15% of Sales Donated to&nbsp\;WCHS</strong><br />\n<em>Now through March 19th...</em><br />\n<strong>Register to Win a $50.00 GIFT CARD</strong><br />\n(<em>see in-store or facebook for more details! </em></span><a href="https://www.facebook.com/events/989525077770135/">https://www.facebook.com/events/989525077770135/</a><span style="font-size:18px">)<br />\n<br />\n<span style="color:rgb(255\, 51\, 204)"><em>Join us <strong>March 19th </strong>for Birthday Cake\, Popcorn\, Refreshments and fun!</em></span></span><br />\n&nbsp\;</div>\n
LOCATION:Faith & Giggles Gift Shop 42 N. Main St. - Downtown Hartford
UID:e.898.3622
SEQUENCE:3
DTSTAMP:20260421T140016Z
URL:https://business.hartfordareachamber.org/events/details/washington-co-humane-society-fundraiser-03-19-2016-3622
END:VEVENT

END:VCALENDAR
