BEGIN:VCALENDAR
VERSION:2.0
PRODID:-//ChamberMaster//Event Calendar 2.0//EN
METHOD:PUBLISH
X-PUBLISHED-TTL:P3D
REFRESH-INTERVAL:P3D
CALSCALE:GREGORIAN
BEGIN:VEVENT
DTSTART;VALUE=DATE:20130723
DTEND;VALUE=DATE:20130729
TRANSP:TRANSPARENT
X-MICROSOFT-CDO-ALLDAYEVENT:TRUE
SUMMARY:Washington County Fair 2013
DESCRIPTION:Washington County Fair\n\nJuly 23 - 28
X-ALT-DESC;FMTTYPE=text/html:<strong><span style="font-size: 16px\;">Washington County Fair<br />\nJuly 23 - 28</span></strong>
LOCATION:Washington County Fair Park 3000 Hwy PV West Bend\, WI 53095
UID:e.898.2580
SEQUENCE:3
DTSTAMP:20260422T012741Z
URL:https://business.hartfordareachamber.org/events/details/washington-county-fair-2013-07-23-2013-2580
END:VEVENT

END:VCALENDAR
