BEGIN:VCALENDAR
VERSION:2.0
PRODID:-//ChamberMaster//Event Calendar 2.0//EN
METHOD:PUBLISH
X-PUBLISHED-TTL:P3D
REFRESH-INTERVAL:P3D
CALSCALE:GREGORIAN
BEGIN:VEVENT
DTSTART:20131120T010000Z
DTEND:20131120T023000Z
X-MICROSOFT-CDO-ALLDAYEVENT:FALSE
SUMMARY:Washington County Historical Society Annual Membership Meeting
DESCRIPTION:Join us for our annual membership meeting.
X-ALT-DESC;FMTTYPE=text/html:Join us for our annual membership meeting.
LOCATION:
UID:e.898.2692
SEQUENCE:3
DTSTAMP:20260421T191703Z
URL:https://business.hartfordareachamber.org/events/details/washington-county-historical-society-annual-membership-meeting-11-19-2013-2692
END:VEVENT

END:VCALENDAR
