BEGIN:VCALENDAR
VERSION:2.0
PRODID:-//ChamberMaster//Event Calendar 2.0//EN
METHOD:PUBLISH
X-PUBLISHED-TTL:P3D
REFRESH-INTERVAL:P3D
CALSCALE:GREGORIAN
BEGIN:VEVENT
DTSTART:20140927T224500Z
DTEND:20140928T010000Z
X-MICROSOFT-CDO-ALLDAYEVENT:FALSE
SUMMARY:Washington County Legend Trip: A Ride on the Strange Side
DESCRIPTION:Join local author & paranormal investigator\, J. Nathan Couch\, on a journey to the places in southern Washington County that harbor bottomless lakes\, spook lights\, and cryptic sightings.\n\n\n\nFind out more about J. Nathan Couch and his book: www.WashingtonCountyParanormal.com\n\n	Look for cemetery spook lights -\n	Share appetizers with a murdered lady of the night -\n	Search for the Bearwolf -\n	Encounter the Goat Man (?) - MORE!\n\n\n\nMeet at the Old Courthouse Museum\, 320 S. 5th Avenue\, West Bend at 5:45pm. We'll return to Old Courthouse Museum around 9:00 pm. Bring your camera! You'll never know what you'll encounter!\n\n\n\n$35.00/person\, $30.00/Washington County Historical Society member.\n\n\n\nIncludes: light appetizers at Tally Ho Pub & Grill\, trivia game\, and prizes. Recommended for ages 10 and up.\n\n\n\nPAYMENT REQUIRED by September 12\, 2014. Online payment will be available soon. Check www.HistoryIsFun.com. Or send payment with name(s)\, address\, phone\, and email to: Washington County Historical Society\, Inc.\, 320 S 5th Ave\, West Bend\, WI 53095 ATTN Jessica
X-ALT-DESC;FMTTYPE=text/html:Join local author &amp\; paranormal investigator\, J. Nathan Couch\, on a journey to the places in southern Washington County that harbor bottomless lakes\, spook lights\, and cryptic sightings.<br />\n<br />\nFind out more about J. Nathan Couch and his book: www.WashingtonCountyParanormal.com\n<ul>\n	<li>Look for cemetery spook lights -</li>\n	<li>Share appetizers with a murdered lady of the night -</li>\n	<li>Search for the Bearwolf -</li>\n	<li>Encounter the Goat Man (?) - MORE!</li>\n</ul>\n<br />\nMeet at the Old Courthouse Museum\, 320 S. 5th Avenue\, West Bend at 5:45pm. We&#39\;ll return to Old Courthouse Museum around 9:00 pm. Bring your camera! You&#39\;ll never know what you&#39\;ll encounter!<br />\n<br />\n$35.00/person\, $30.00/Washington County Historical Society member.<br />\n<br />\nIncludes: light appetizers at Tally Ho Pub &amp\; Grill\, trivia game\, and prizes. Recommended for ages 10 and up.<br />\n<br />\nPAYMENT REQUIRED by September 12\, 2014. Online payment will be available soon. Check www.HistoryIsFun.com. Or send payment with name(s)\, address\, phone\, and email to: Washington County Historical Society\, Inc.\, 320 S 5th Ave\, West Bend\, WI 53095 ATTN Jessica
LOCATION:Meet at the Old Courthouse Museum 320 S. 5th Avenue\, West Bend. We'll visit locations in Slinger\, Erin\, Hubertus\, Germantown\, and Jackson.
UID:e.898.3198
SEQUENCE:3
DTSTAMP:20260420T234011Z
URL:https://business.hartfordareachamber.org/events/details/washington-county-legend-trip-a-ride-on-the-strange-side-09-27-2014-3198
END:VEVENT

END:VCALENDAR
