BEGIN:VCALENDAR
VERSION:2.0
PRODID:-//ChamberMaster//Event Calendar 2.0//EN
METHOD:PUBLISH
X-PUBLISHED-TTL:P3D
REFRESH-INTERVAL:P3D
CALSCALE:GREGORIAN
BEGIN:VEVENT
DTSTART:20130307T000000Z
DTEND:20130307T030000Z
X-MICROSOFT-CDO-ALLDAYEVENT:FALSE
SUMMARY:Watercolor-Water Landscape
DESCRIPTION:30624\n\nCreate an exciting semi-abstract with a water theme using different fiber papers.
X-ALT-DESC;FMTTYPE=text/html:30624<br />\nCreate an exciting semi-abstract with a water theme using different fiber papers.
LOCATION:Hartford Union High School 805 Cedar St. Hartford\, WI 53027
UID:e.898.1736
SEQUENCE:3
DTSTAMP:20260422T075715Z
URL:https://business.hartfordareachamber.org/events/details/watercolor-water-landscape-03-06-2013-1736
END:VEVENT

END:VCALENDAR
