BEGIN:VCALENDAR
VERSION:2.0
PRODID:-//ChamberMaster//Event Calendar 2.0//EN
METHOD:PUBLISH
X-PUBLISHED-TTL:P3D
REFRESH-INTERVAL:P3D
CALSCALE:GREGORIAN
BEGIN:VEVENT
DTSTART:20121114T010000Z
DTEND:20121114T023000Z
X-MICROSOFT-CDO-ALLDAYEVENT:FALSE
SUMMARY:WCHS Annual Meeting
DESCRIPTION:Join us for our annual meeting where members will be able to vote on the slate of Board of Director candidates.\nAfter the meeting\, retired Archivist from the Museum of Wisconsin Art\, Linda Goetz will talk about her involvement with the Zinn Dollhouse. Linda was instrumental in cataloging the artifacts when the house was first installed at the Art Museum.
X-ALT-DESC;FMTTYPE=text/html:<p>\n	<span style="color: #000000">Join us for our annual meeting where members will be able to vote on the slate of Board of Director candidates.</span></p>\n<span style="color: #000000">After the meeting\, retired Archivist from the Museum of Wisconsin Art\, Linda Goetz will talk about her involvement with the Zinn Dollhouse. Linda was instrumental in cataloging the artifacts when the house was first installed at the Art Museum.</span>
LOCATION:Old Courthouse Museum 320 S. 5th Ave West Bend\, WI 53095
UID:e.898.1671
SEQUENCE:3
DTSTAMP:20260422T144452Z
URL:https://business.hartfordareachamber.org/events/details/wchs-annual-meeting-11-13-2012-1671
END:VEVENT

END:VCALENDAR
