BEGIN:VCALENDAR
VERSION:2.0
PRODID:-//ChamberMaster//Event Calendar 2.0//EN
METHOD:PUBLISH
X-PUBLISHED-TTL:P3D
REFRESH-INTERVAL:P3D
CALSCALE:GREGORIAN
BEGIN:VEVENT
DTSTART:20131012T230000Z
DTEND:20131013T020000Z
X-MICROSOFT-CDO-ALLDAYEVENT:FALSE
SUMMARY:WCHS Oktoberfest Beertasting
DESCRIPTION:17th ANNUAL OKTOBERFEST BEERTASTING\n\n	\n\n	Saturday\, October 12\n\n	6-9 pm\n\n	Washington County Humane Society\n\n	3650 Hwy 60\, Slinger\n\n	 \n\n	 \n\n	\n\n	\n\n	\n\n	\n\n	\n\n	\n\n	\n\n	\n\n	\n\n	Mark your calendars for October 12th - our annual Beertasting!\n\n	  \n\n	The Beertasting is an annual event that takes place in October at the shelter. The event\, held in the large room at the shelter used for dog training\, is decorated in fall colors and foliage\, getting everyone who enters the room into the autumn spirit.\n\n	Oktoberfest features over 50 microbrews as well as hors d'oeuvres. While Oktoberfest-goers test the beers and sample the food they also listen to the German sounds of The Blaskapelles.\n\n	\n\n	Silent auction\, raffle and door prizes are also offered at the event with all proceeds going to help the shelter animals.
X-ALT-DESC;FMTTYPE=text/html:<h3>\n	<br />\n	<span style="font-size: 16px\;"><u><strong>17th ANNUAL OKTOBERFEST BEERTASTING</strong></u><br />\n	<br />\n	Saturday\, October 12<br />\n	6-9 pm<br />\n	Washington County Humane Society<br />\n	3650 Hwy 60\, Slinger</span><br />\n	&nbsp\;</h3>\n<p>\n	&nbsp\;</p>\n<h4>\n	<br />\n	<br />\n	<br />\n	<br />\n	<br />\n	<br />\n	<br />\n	<br />\n	<br />\n	Mark your calendars for October 12th - our annual Beertasting!<br />\n	&nbsp\;&nbsp\;<br />\n	The Beertasting is an annual event that takes place in October at the shelter. The event\, held in the large room at the shelter used for dog training\, is decorated in fall colors and foliage\, getting everyone who enters the room into the autumn spirit.<br />\n	Oktoberfest features over 50 microbrews as well as hors d&#39\;oeuvres. While Oktoberfest-goers test the beers and sample the food they also listen to the German sounds of The Blaskapelles.<br />\n	<br />\n	Silent auction\, raffle and door prizes are also offered at the event with all proceeds going to help the shelter animals.&nbsp\;&nbsp\;</h4>\n<br />\n
LOCATION:Washington County Humane Society 3650 Hwy 60\, Slinger Click here to edit...
UID:e.898.2788
SEQUENCE:3
DTSTAMP:20260421T201535Z
URL:https://business.hartfordareachamber.org/events/details/wchs-oktoberfest-beertasting-10-12-2013-2788
END:VEVENT

END:VCALENDAR
