BEGIN:VCALENDAR
VERSION:2.0
PRODID:-//ChamberMaster//Event Calendar 2.0//EN
METHOD:PUBLISH
X-PUBLISHED-TTL:P3D
REFRESH-INTERVAL:P3D
CALSCALE:GREGORIAN
BEGIN:VEVENT
DTSTART:20130807T223000Z
DTEND:20130808T013000Z
X-MICROSOFT-CDO-ALLDAYEVENT:FALSE
SUMMARY:Web Site Design for Your Small Business
DESCRIPTION:CRN #20675\n\n	Provide basic web site design techniques and templates for anyone with an existing business that would like to improve or implement their web site presence. Applies concepts of templates\, graphic lay out\, content and strategy to promote an online presence\, increase traffic to a current website and improve customer satisfaction.
X-ALT-DESC;FMTTYPE=text/html:<p class="MsoNormal" style="margin: 0in 0in 0pt\;">\n	<font size="3"><font color="#000000"><font face="Calibri">CRN #20675<o:p></o:p></font></font></font></p>\n<p class="MsoNormal" style="margin: 0in 0in 10pt\;">\n	<font size="3"><font color="#000000"><font face="Calibri">Provide basic web site design techniques and templates for anyone with an existing business that would like to improve or implement their web site presence. Applies concepts of templates\, graphic lay out\, content and strategy to promote an online presence\, increase traffic to a current website and improve customer satisfaction.<o:p></o:p></font></font></font></p>\n
LOCATION:Moraine Park Technical College / Fond du Lac Campus
UID:e.898.1853
SEQUENCE:3
DTSTAMP:20260421T233706Z
URL:https://business.hartfordareachamber.org/events/details/web-site-design-for-your-small-business-08-07-2013-1853
END:VEVENT

END:VCALENDAR
