BEGIN:VCALENDAR
VERSION:2.0
PRODID:-//ChamberMaster//Event Calendar 2.0//EN
METHOD:PUBLISH
X-PUBLISHED-TTL:P3D
REFRESH-INTERVAL:P3D
CALSCALE:GREGORIAN
BEGIN:VEVENT
DTSTART:20130516T223000Z
DTEND:20130517T013000Z
X-MICROSOFT-CDO-ALLDAYEVENT:FALSE
SUMMARY:Website Design for your Small Business
DESCRIPTION:Website Design for  Your Small Business\n\n\n\nA 3 hour course developed to provide basic web site techniques and templates for small businesses.
X-ALT-DESC;FMTTYPE=text/html:<strong><span style="font-size: 14px\;">Website Design for&nbsp\; Your Small Business</span></strong><br />\n<br />\nA 3 hour course developed to provide basic web site techniques and templates for small businesses.
LOCATION:Moraine Park Technical College-West Bend Campus 2151 North Main Street\, West Bend
UID:e.898.1792
SEQUENCE:3
DTSTAMP:20260422T043350Z
URL:https://business.hartfordareachamber.org/events/details/website-design-for-your-small-business-05-16-2013-1792
END:VEVENT

END:VCALENDAR
