BEGIN:VCALENDAR
VERSION:2.0
PRODID:-//ChamberMaster//Event Calendar 2.0//EN
METHOD:PUBLISH
X-PUBLISHED-TTL:P3D
REFRESH-INTERVAL:P3D
CALSCALE:GREGORIAN
BEGIN:VEVENT
DTSTART;VALUE=DATE:20130726
DTEND;VALUE=DATE:20130729
TRANSP:TRANSPARENT
X-MICROSOFT-CDO-ALLDAYEVENT:TRUE
SUMMARY:Weekend of Freedom Machines
DESCRIPTION:John Deere Collectors Gather to Celebrate\n\n"Weekend of Freedom Machines" &\n\n50 Years of Mowing\n\n\n\nJuly 26-28\n\nDodge County Fairgrunds\n\nState Highway 33\n\nBeaver Dam\, WI\n\n\n\nJohn Deere collectors and enthusiasts will gather near Horicon to celebrate the 50th anniversary of the first John Deere lawn and garden tractor.  Sponsored by John Deer Horicon Works and Lawn & Garden Tractor Magazine\,  This three day event will celebrate the 1963 John Deer Model 110 lawn & garden tractor. More than 1000 garden tractors will be displayed.\n\n\n\nThe Weekend of Freedom Machines event is entirely FREE and open to the public.
X-ALT-DESC;FMTTYPE=text/html:<span style="font-size: 16px\;"><strong>John Deere Collectors Gather to Celebrate<br />\n&quot\;Weekend of Freedom Machines&quot\; &amp\;<br />\n50 Years of Mowing</strong><br />\n<br />\n<span style="font-size: 12px\;">July 26-28<br />\nDodge County Fairgrunds<br />\nState Highway 33<br />\nBeaver Dam\, WI<br />\n<br />\nJohn Deere collectors and enthusiasts will gather near Horicon to celebrate the 50th anniversary of the first John Deere lawn and garden tractor.&nbsp\; Sponsored by John Deer Horicon Works and Lawn &amp\; Garden Tractor Magazine\,&nbsp\; This three day event will celebrate the 1963 John Deer Model 110 lawn&nbsp\;&amp\; garden tractor. More than 1000 garden tractors will be displayed.<br />\n<br />\nThe Weekend of Freedom Machines event is entirely FREE and open to the public.</span></span><br />\n<br />\n<br />\n
LOCATION:Dodge County Fairgrounds State Highway 33 Beaver Dam\, WI
UID:e.898.1823
SEQUENCE:3
DTSTAMP:20260422T005611Z
URL:https://business.hartfordareachamber.org/events/details/weekend-of-freedom-machines-07-26-2013-1823
END:VEVENT

END:VCALENDAR
