BEGIN:VCALENDAR
VERSION:2.0
PRODID:-//ChamberMaster//Event Calendar 2.0//EN
METHOD:PUBLISH
X-PUBLISHED-TTL:P3D
REFRESH-INTERVAL:P3D
CALSCALE:GREGORIAN
BEGIN:VEVENT
DTSTART:20130125T000000Z
DTEND:20130125T024500Z
X-MICROSOFT-CDO-ALLDAYEVENT:FALSE
SUMMARY:Welding for the Home & Garden Expanded
DESCRIPTION:31586\n\nDevelops skills in welding processes using oxy-fuels to make home project(s). Learn safety precautions in handling\, setup and use of welding equipment. Determine projects to make for your home and garden use. Safety glasses are required for first class.
X-ALT-DESC;FMTTYPE=text/html:31586<br />\nDevelops skills in welding processes using oxy-fuels to make home project(s). Learn safety precautions in handling\, setup and use of welding equipment. Determine projects to make for your home and garden use. Safety glasses are required for first class.
LOCATION:Hartford Union High School 805 Cedar St. Hartford\, WI 53027
UID:e.898.1744
SEQUENCE:3
DTSTAMP:20260422T112509Z
URL:https://business.hartfordareachamber.org/events/details/welding-for-the-home-garden-expanded-01-24-2013-1744
END:VEVENT

END:VCALENDAR
