BEGIN:VCALENDAR
VERSION:2.0
PRODID:-//ChamberMaster//Event Calendar 2.0//EN
METHOD:PUBLISH
X-PUBLISHED-TTL:P3D
REFRESH-INTERVAL:P3D
CALSCALE:GREGORIAN
BEGIN:VEVENT
DTSTART;VALUE=DATE:20121001
DTEND;VALUE=DATE:20121002
TRANSP:TRANSPARENT
X-MICROSOFT-CDO-ALLDAYEVENT:TRUE
SUMMARY:West Bend Co./RegalAre Museum Golf Outing and Fundraiser
DESCRIPTION:Support the West Bend Co./Regal Ware Museum with 18 holes of golf and a half cart. Enjoy a good morning wake up with hot coffee and donuts. Have an at the turn pick me up of a brat or burger. Included are two complimentary drink tickets and the evening dinner buffet.\n\n\n\nRaffles\, challenge events and other activities will be held throughout the day and evening. Non-golfers are welcome!\n\n\n\n$75 per golfer or $300 per foursome.\n\nNon-golfers will receive one drink ticket and the dinner for $25.\n\n\n\nRegister by August 31 and pay only $70 per golfer or $280 per foursome!\n\n\n\nClick here for a registration form.\n\nMust be 21 to enter.\n\n\n\nAll proceeds benefit the Washington County Historical Society. Sponsored by John Best Law Office\, Krielkamp Trucking\, West Bend Mutual Insurance\, Chef Jeff Catering\, Jeff's Spirits on Main\, Lithia Beer\, Riverside Brewery and Restaurant\, and Scenic View Country Club.
X-ALT-DESC;FMTTYPE=text/html:Support the West Bend Co./Regal Ware Museum with 18 holes of golf and a half cart. Enjoy a good morning wake up with hot coffee and donuts. Have an at the turn pick me up of a brat or burger. Included are two complimentary drink tickets and the evening dinner buffet.<br />\n<br />\nRaffles\, challenge events and other activities will be held throughout the day and evening. Non-golfers are welcome!<br />\n<br />\n$75 per golfer or $300 per foursome.<br />\nNon-golfers will receive one drink ticket and the dinner for $25.<br />\n<br />\nRegister by August 31 and pay only $70 per golfer or $280 per foursome!<br />\n<br />\nClick here for a registration form.<br />\nMust be 21 to enter.<br />\n<br />\nAll proceeds benefit the Washington County Historical Society. Sponsored by John Best Law Office\, Krielkamp Trucking\, West Bend Mutual Insurance\, Chef Jeff Catering\, Jeff&#39\;s Spirits on Main\, Lithia Beer\, Riverside Brewery and Restaurant\, and Scenic View Country Club.<br />\n
LOCATION:West Bend Lakes Golf Club 1241 Hwy 33 East West Bend\, WI
UID:e.898.1594
SEQUENCE:3
DTSTAMP:20260422T162744Z
URL:https://business.hartfordareachamber.org/events/details/west-bend-co-regalare-museum-golf-outing-and-fundraiser-10-01-2012-1594
END:VEVENT

END:VCALENDAR
