BEGIN:VCALENDAR
VERSION:2.0
PRODID:-//ChamberMaster//Event Calendar 2.0//EN
METHOD:PUBLISH
X-PUBLISHED-TTL:P3D
REFRESH-INTERVAL:P3D
CALSCALE:GREGORIAN
BEGIN:VEVENT
DTSTART:20131026T210000Z
DTEND:20131026T230000Z
X-MICROSOFT-CDO-ALLDAYEVENT:FALSE
SUMMARY:West Bend - Trick or Treat
DESCRIPTION:WEST BEND\n\nTrick -or- Treat\n\nSaturday\, October 26\n\n4 to 6 pm
X-ALT-DESC;FMTTYPE=text/html:<span style="font-size:14px\;"><strong>WEST BEND</strong></span><br />\n<strong><span style="font-size:14px\;">Trick -or- Treat</span></strong><br />\nSaturday\, October 26<br />\n4 to 6 pm
LOCATION:
UID:e.898.2787
SEQUENCE:3
DTSTAMP:20260421T201611Z
URL:https://business.hartfordareachamber.org/events/details/west-bend-trick-or-treat-10-26-2013-2787
END:VEVENT

END:VCALENDAR
