BEGIN:VCALENDAR
VERSION:2.0
PRODID:-//ChamberMaster//Event Calendar 2.0//EN
METHOD:PUBLISH
X-PUBLISHED-TTL:P3D
REFRESH-INTERVAL:P3D
CALSCALE:GREGORIAN
BEGIN:VEVENT
DTSTART:20120630T230000Z
DTEND:20120701T000000Z
X-MICROSOFT-CDO-ALLDAYEVENT:FALSE
SUMMARY:Wildlife In Need
DESCRIPTION:Wildlife in Need\nLive animal demonstration\n\nA presentation given on live animals such as a Kestrel\, Great Horned Owl\, Red tail Hawk\, Waldo the Woodchuck and Daphney the duck.\n\nKettle Moraine State Forest\nPike Lake Unit\nMeet by the north shelter.
X-ALT-DESC;FMTTYPE=text/html:<SPAN style="FONT-SIZE: 18px"><STRONG>Wildlife in Need</STRONG></SPAN><BR><STRONG><SPAN style="FONT-SIZE: 14px">Live animal demonstration</SPAN></STRONG><BR><BR>A presentation given on live animals such as a Kestrel\, Great Horned Owl\, Red tail Hawk\, Waldo the Woodchuck and Daphney the duck.<BR><BR><SPAN style="FONT-SIZE: 16px"><STRONG>Kettle Moraine State Forest<BR>Pike Lake Unit</STRONG></SPAN><BR>Meet by the north shelter.<BR><BR>
LOCATION:Click here to edit...
UID:e.898.1216
SEQUENCE:3
DTSTAMP:20260424T100732Z
URL:https://business.hartfordareachamber.org/events/details/wildlife-in-need-06-30-2012-1216
END:VEVENT

END:VCALENDAR
