BEGIN:VCALENDAR
VERSION:2.0
PRODID:-//ChamberMaster//Event Calendar 2.0//EN
METHOD:PUBLISH
X-PUBLISHED-TTL:P3D
REFRESH-INTERVAL:P3D
CALSCALE:GREGORIAN
BEGIN:VEVENT
DTSTART:20121214T133000Z
DTEND:20121214T150000Z
X-MICROSOFT-CDO-ALLDAYEVENT:FALSE
SUMMARY:WIN - December 2012
DESCRIPTION:Increase your Contacts in Washington County\n\n	& Build your Business Network!\n\n	 \n\n	WIN\n\n	Washington County Interactive Networking\n\n	Friday\, December 14\, 2012\n\n	\n\n	 \n\n	hosted by\n\n	Affiliated Clinical Services\n\n	held in the\n\n	Community Room\n\n	First National Bank of Hartford\n\n	\n\n	\n\n	7:30 am - Breakfast\n\n	Mix & mingle with member and their guests from the Hartford\, Germantown & West Bend Area Chambers of Commerce\n\n	\n\n	8:00 am - :30 Commercial Introductions\n\n	Share a 30 second commercial to introduce your business and promote your products or services\n\n	\n\n	8:40 am - Success Stories\n\n	Extend a thank you or share your business success from WIN networking!\n\n	\n\n	8:50 am - Business Request\n\n	Make your outrageous business-related requests!\n\n	\n\n	Registration Required!\n\n	\n\n	SAVE! RSVP by December 11\n\n	$10 Chamber Members\n\n	$20 non-Chamber Members\n\n	\n\n	After deadline\, cost is:\n\n	$12 Chamber Members\n\n	$22 non-Chamber Members
X-ALT-DESC;FMTTYPE=text/html:<p>\n	<strong><span style="color: rgb(178\, 34\, 34)\;">Increase your Contacts in Washington County<br />\n	&amp\; Build your Business Network!</span></strong><br />\n	&nbsp\;<br />\n	<span style="font-size: 28px\;"><strong><span style="font-family: arial\;">WIN</span></strong></span><br />\n	<strong><span style="font-size: 16px\;">Washington County Interactive Networking</span></strong><br />\n	<span style="font-size: 16px\;">Friday\, December 14\, 2012</span><br />\n	<br />\n	&nbsp\;</p>\n<p>\n	<em><font size="3"><span style="font-size: 14px\;"><span style="font-size: 16px\;"><span style="font-size: 14px\;"><span style="font-size: 16px\;"><span style="font-size: 12px\;">hosted by</span></span></span></span></span></font></em><br />\n	<span style="font-size: 18px\;"><strong><span style="color: rgb(0\, 0\, 205)\;"><strong><span style="color: rgb(0\, 0\, 205)\;"><strong>Affiliated Clinical Services</strong></span></strong></span></strong></span><br />\n	<em><font size="3"><span style="font-size: 14px\;"><span style="font-size: 16px\;"><span style="font-size: 12px\;">held in the</span></span></span></font></em><br />\n	<strong><font size="3"><span style="font-size: 14px\;"><span style="font-size: 16px\;"><span style="color: rgb(0\, 0\, 205)\;"><strong><span style="font-size: 14px\;"><span style="font-size: 16px\;"><span style="color: rgb(0\, 0\, 205)\;"><strong>Community Room<br />\n	First National Bank of Hartford</strong></span></span></span></strong></span></span></span></font></strong><br />\n	<br />\n	<br />\n	<strong><span style="font-size: 16px\;"><span style="font-size: 18px\;"><span style="font-size: 14px\;">7:30 am - Breakfast</span></span></span></strong><br />\n	<span style="font-size: 16px\;"><span style="font-size: 18px\;"><span style="font-size: 14px\;">Mix &amp\; mingle with member and their guests from the Hartford\, Germantown &amp\; West Bend Area Chambers of Commerce<br />\n	<br />\n	<strong>8:00 am - :30 Commercial Introductions</strong><br />\n	Share a 30 second commercial to introduce your business and promote your products or services<br />\n	<br />\n	<strong>8:40 am - Success Stories</strong><br />\n	Extend a thank you or share your business success from WIN networking!<br />\n	<br />\n	<strong>8:50 am - Business Request</strong><br />\n	Make your outrageous business-related requests!<br />\n	<br />\n	<strong>Registration Required!<br />\n	<br />\n	<span style="color: rgb(255\, 0\, 0)\;">SAVE! RSVP by December 11</span></strong><br />\n	$10 Chamber Members<br />\n	$20 non-Chamber Members<br />\n	<br />\n	After deadline\, cost is:<br />\n	$12 Chamber Members<br />\n	$22 non-Chamber Members</span></span></span><br />\n	&nbsp\;</p>\n
LOCATION:HELD in the Community Room First National Bank of Hartford
UID:e.898.1664
SEQUENCE:3
DTSTAMP:20260422T132448Z
URL:https://business.hartfordareachamber.org/events/details/win-december-2012-12-14-2012-1664
END:VEVENT

END:VCALENDAR
