BEGIN:VCALENDAR
VERSION:2.0
PRODID:-//ChamberMaster//Event Calendar 2.0//EN
METHOD:PUBLISH
X-PUBLISHED-TTL:P3D
REFRESH-INTERVAL:P3D
CALSCALE:GREGORIAN
BEGIN:VEVENT
DTSTART:20131220T133000Z
DTEND:20131220T150000Z
X-MICROSOFT-CDO-ALLDAYEVENT:FALSE
SUMMARY:WIN - December 2013
DESCRIPTION:Increase your Contacts in Washington County\n\n	& Build your Business Network!\n\n	 \n\n	WIN\n\n	Washington County Interactive Networking\n\n	Friday\, December 20\, 2013\n\n	\n\n	hosted by\n\n	\n\n	Cedar Valley Retreat & Spa\n\n	5349 County Road D\, West Bend\n\n	(262) 629-9202\n\n	 \n\n	 \n\n	DIRECTIONS: Cedar Valley is located nine miles west of West Bend. Take Highway 45\, take exit #73 at Highway D\, and it's just six miles west on your left. On Highway 41\, take exit #76 east at Highway D and travel three miles ahead on your right.  \n\n	\n\n	\n\n	7:30 am - Breakfast\n\n	Mix & mingle with member and their guests from the Hartford\, Germantown & West Bend Area Chambers of Commerce\n\n	\n\n	8:00 am - :30 Commercial Introductions\n\n	Share a 30 second commercial to introduce your business and promote your products or services\n\n	\n\n	8:40 am - Success Stories\n\n	Extend a thank you or share your business success from WIN networking!\n\n	\n\n	8:50 am - Business Request\n\n	Make your outrageous business-related requests!\n\n	\n\n	 \n\n	$15 Chamber Members\n\n	SAVE! Early Bird\n\n	register by December\,13   5  pm\n\n	Members only $12\n\n	\n\n	$25 for Non-Chamber Members
X-ALT-DESC;FMTTYPE=text/html:<p>\n	<strong><span style="color: rgb(178\, 34\, 34)\;">Increase your Contacts in Washington County<br />\n	&amp\; Build your Business Network!</span></strong><br />\n	&nbsp\;<br />\n	<span style="font-size: 28px\;"><strong><span style="font-family: arial\;">WIN</span></strong></span><br />\n	<span style="font-family:arial\;"><strong><span style="font-size: 16px\;">Washington County Interactive Networking</span></strong><br />\n	<span style="font-size: 16px\;">Friday\,&nbsp\;December 20\, 2013</span><br />\n	<br />\n	<em><font size="3"><span style="font-size: 14px\;"><span style="font-size: 16px\;"><span style="font-size: 14px\;"><span style="font-size: 16px\;"><span style="font-size: 12px\;">hosted by</span></span></span></span></span></font></em><br />\n	<br />\n	<span style="font-size:18px\;"><span style="font-size:20px\;"><span style="font-weight: bold\;">Cedar Valley Retreat &amp\; Spa</span></span></span><br />\n	<span style="font-size:16px\;"><span>5349 County Road D\, West Bend</span></span><br />\n	<span><span style="font-size: 12pt\;">(262) 629-9202</span></span><br />\n	&nbsp\;<br />\n	&nbsp\;<br />\n	<span style="font-size: 14px\;"><span style="font-weight: bold\;">DIRECTIONS: </span><span>Cedar Valley is located nine miles west of West Bend. Take Highway 45\, take exit #73 at Highway D\, and it&rsquo\;s just six miles west on your left. On Highway 41\, take exit #76 east at Highway D and travel three miles ahead on your right.&nbsp\; </span></span></span><br />\n	<br />\n	<br />\n	<strong><span style="font-size: 16px\;"><span style="font-size: 18px\;"><span style="font-size: 14px\;">7:30 am - Breakfast</span></span></span></strong><br />\n	<span style="font-size: 16px\;"><span style="font-size: 18px\;"><span style="font-size: 14px\;">Mix &amp\; mingle with member and their guests from the Hartford\, Germantown &amp\; West Bend Area Chambers of Commerce<br />\n	<br />\n	<strong>8:00 am - :30 Commercial Introductions</strong><br />\n	Share a 30 second commercial to introduce your business and promote your products or services<br />\n	<br />\n	<strong>8:40 am - Success Stories</strong><br />\n	Extend a thank you or share your business success from WIN networking!<br />\n	<br />\n	<strong>8:50 am - Business Request</strong><br />\n	Make your outrageous business-related requests!<br />\n	<br />\n	&nbsp\;</span></span></span></p>\n<p>\n	<strong><span style="font-size: 16px\;"><span style="font-size: 18px\;"><span style="font-size: 14px\;">$15 Chamber Members</span></span></span></strong></p>\n<p>\n	<span style="font-size: 16px\;"><span style="font-size: 18px\;"><span style="font-size: 14px\;"><strong>SAVE! Early Bird</strong><br />\n	register by&nbsp\;December\,13&nbsp\;&nbsp\;&nbsp\;5&nbsp\; pm<br />\n	Members only $12<br />\n	<br />\n	$25 for Non-Chamber Members</span></span></span></p>\n
LOCATION:held at Cedar Retreat & Spa West Bend
UID:e.898.1831
SEQUENCE:3
DTSTAMP:20260421T170728Z
URL:https://business.hartfordareachamber.org/events/details/win-december-2013-12-20-2013-1831
END:VEVENT

END:VCALENDAR
