BEGIN:VCALENDAR
VERSION:2.0
PRODID:-//ChamberMaster//Event Calendar 2.0//EN
METHOD:PUBLISH
X-PUBLISHED-TTL:P3D
REFRESH-INTERVAL:P3D
CALSCALE:GREGORIAN
BEGIN:VEVENT
DTSTART:20150220T133000Z
DTEND:20150220T150000Z
X-MICROSOFT-CDO-ALLDAYEVENT:FALSE
SUMMARY:WIN - February 2015
DESCRIPTION:Increase your Contacts in Washington County\n\n& Build your Business Network!\n\n \n\nWIN\n\nWashington County Interactive Networking\n\nFriday\, February 20\, 2015\n\n \n\nhosted by\n\nThe Threshold\n\nWest Bend\n\n\n\n\n\n  7:30 am - Breakfast\n\nMix & mingle with member and their guests from the Hartford\, Germantown & West Bend Area Chambers of Commerce\n\n\n\n8:00 am - :30 Commercial Introductions\n\nShare a 30 second commercial to introduce your business and promote your products or services\n\n\n\n8:40 am - Success Stories\n\nExtend a thank you or share your business success from WIN networking!\n\n\n\n8:50 am - Business Request\n\nMake your outrageous business-related requests!\n\n\n\nRegistration Required!\n\n\n\nCancellation policy: Substitutions accepted at any time. No shows will be charged.\n\n\n\nClick HERE for flyer\n\n\n\nSAVE! RSVP by February 13\n\n$12 Chamber Members\n\n\n\nAfter February 13...\n\n$15 Chamber Members \n\n$17 walk-in registration at the door\n\n$25 non-Chamber Members
X-ALT-DESC;FMTTYPE=text/html:<p><strong><span style="color: rgb(178\, 34\, 34)\;">Increase your Contacts in Washington County<br />\n&amp\; Build your Business Network!</span></strong><br />\n&nbsp\;<br />\n<span style="font-size: 28px\;"><strong><span style="font-family: arial\;">WIN</span></strong></span><br />\n<span style="font-size:14px\;"><strong>Washington County Interactive Networking</strong></span><br />\n<span style="font-size:12px\;">Friday\, February 20\, 2015</span><br />\n&nbsp\;</p>\n\n<p><em><font size="3"><span style="font-size: 14px\;"><span style="font-size: 16px\;"><span style="font-size: 14px\;"><span style="font-size: 16px\;"><span style="font-size: 12px\;">hosted by</span></span></span></span></span></font></em><br />\n<span style="font-size: 16px\;"><strong>The Threshold<br />\nWest Bend</strong></span><br />\n<br />\n<br />\n<span style="font-size: 16px\;"><span _fck_bookmark="1" style="display: none\;">&nbsp\;</span></span><span _fck_bookmark="1" style="display: none\;">&nbsp\;</span><span style="font-size: 12px\;"><strong>7:30 am - Breakfast</strong><br />\nMix &amp\; mingle with member and their guests from the Hartford\, Germantown &amp\; West Bend Area Chambers of Commerce<br />\n<br />\n<strong>8:00 am - :30 Commercial Introductions</strong><br />\nShare a 30 second commercial to introduce your business and promote your products or services<br />\n<br />\n<strong>8:40 am - Success Stories</strong><br />\nExtend a thank you or share your business success from WIN networking!<br />\n<br />\n<strong>8:50 am - Business Request</strong><br />\nMake your outrageous business-related requests!<br />\n<br />\n<strong>Registration Required!</strong><br />\n<br />\nCancellation policy: Substitutions accepted at any time. No shows will be charged.<br />\n<br />\nClick HERE for flyer<br />\n<br />\n<span style="color: rgb(255\, 0\, 0)\;"><strong>SAVE! RSVP by February 13</strong></span><br />\n<strong>$12 Chamber Members</strong></span><br />\n<br />\n<span style="font-size: 12px\;">After February 13...<br />\n$15 Chamber Members<span style="color: rgb(255\, 0\, 0)\;">&nbsp\;</span><br />\n$17 walk-in registration at the door</span><br />\n<span style="font-size: 12px\;">$25 non-Chamber Members<br />\n<br />\n&nbsp\;</span></p>\n
LOCATION:West Bend
UID:e.898.3305
SEQUENCE:3
DTSTAMP:20260420T162857Z
URL:https://business.hartfordareachamber.org/events/details/win-february-2015-02-20-2015-3305
END:VEVENT

END:VCALENDAR
