BEGIN:VCALENDAR
VERSION:2.0
PRODID:-//ChamberMaster//Event Calendar 2.0//EN
METHOD:PUBLISH
X-PUBLISHED-TTL:P3D
REFRESH-INTERVAL:P3D
CALSCALE:GREGORIAN
BEGIN:VEVENT
DTSTART:20140221T133000Z
DTEND:20140221T150000Z
X-MICROSOFT-CDO-ALLDAYEVENT:FALSE
SUMMARY:WIN - February 21
DESCRIPTION:Increase your Contacts in Washington County\n\n& Build your Business Network!\n\n \n\nWIN\n\nWashington County Interactive Networking\n\nFriday\, February 21\, 2014\n\nhosted by\n\nThe Threshold Incorporated\n\n\n\nheld at\n\nLawrence & Vivian\n\nStockhausen Center\n\n2380 W. Washington street (Hwy  33)\n\nWest Bend\n\n\n\nDirections: Hwy 41 to the Hwy 33 exit. Travel east to address\, turning left into drive just after Perkins restaurant. Hwy 45 to the Hwy 33 exit. Travel west to address\, turning right into drive just before Perkins restaurant. Travel north to Lawrence & Vivian Stockhausen Center\, located in the former Pick 'n Save building.\n\n\n\n  7:30 am - Breakfast\n\nMix & mingle with member and their guests from the Hartford\, Germantown & West Bend Area Chambers of Commerce\n\n\n\n8:00 am - :30 Commercial Introductions\n\nShare a 30 second commercial to introduce your business and promote your products or services\n\n\n\n8:40 am - Success Stories\n\nExtend a thank you or share your business success from WIN networking!\n\n\n\n8:50 am - Business Request\n\nMake your outrageous business-related requests!\n\n\n\nRegistration Required!\n\n\n\nSAVE! RSVP by February 14 \n\n$12 Chamber Members\n\n\n\nAfter February 14...\n\n$15 Chamber Members\n\n$17 walk-in registration at the door\n\n$25 non-Chamber Members
X-ALT-DESC;FMTTYPE=text/html:<p><strong><span style="color: rgb(178\, 34\, 34)\;">Increase your Contacts in Washington County<br />\n&amp\; Build your Business Network!</span></strong><br />\n&nbsp\;<br />\n<span style="font-size: 28px\;"><strong><span style="font-family: arial\;">WIN</span></strong></span><br />\n<strong><span style="font-size: 16px\;">Washington County Interactive Networking</span></strong><br />\n<span style="font-size: 16px\;">Friday\,&nbsp\;February 21\, 2014</span></p>\n\n<p><em><font size="3"><span style="font-size: 14px\;"><span style="font-size: 16px\;"><span style="font-size: 14px\;"><span style="font-size: 16px\;"><span style="font-size: 12px\;">hosted by</span></span></span></span></span></font></em><br />\n<span style="font-size: 16px\;"><strong>The Threshold Incorporated</strong><br />\n<br />\n<em><font size="3"><span style="font-size: 14px\;"><span style="font-size: 16px\;"><span style="font-size: 14px\;"><span style="font-size: 16px\;"><span style="font-size: 12px\;">held at</span></span></span></span></span></font></em><br />\n<strong>Lawrence &amp\; Vivian<br />\nStockhausen Center</strong><br />\n<span style="font-size: 14px\;">2380 W. Washington street (Hwy&nbsp\; 33)<br />\nWest Bend</span></span><br />\n<br />\n<span style="color: rgb(0\, 0\, 0)\;"><span style="font-size: 16px\;"><strong><span style="font-size: 12px\;">Directions:&nbsp\;</span></strong><span style="font-size: 12px\;">Hwy 41 to the Hwy 33 exit. Travel east&nbsp\;to address\, turning&nbsp\;left into drive just&nbsp\;after Perkins restaurant. Hwy 45 to the Hwy 33 exit. Travel west to address\, turning&nbsp\;right into drive&nbsp\;just&nbsp\;before Perkins restaurant. Travel north to Lawrence &amp\; Vivian Stockhausen Center\, located in the former Pick&nbsp\;&#39\;n Save building.</span></span></span><br />\n<br />\n<span style="font-size: 16px\;"><span _fck_bookmark="1" style="display: none\;">&nbsp\;</span></span><span _fck_bookmark="1" style="display: none\;">&nbsp\;</span><span style="font-size: 12px\;"><strong>7:30 am - Breakfast</strong><br />\nMix &amp\; mingle with member and their guests from the Hartford\, Germantown &amp\; West Bend Area Chambers of Commerce<br />\n<br />\n<strong>8:00 am - :30 Commercial Introductions</strong><br />\nShare a 30 second commercial to introduce your business and promote your products or services<br />\n<br />\n<strong>8:40 am - Success Stories</strong><br />\nExtend a thank you or share your business success from WIN networking!<br />\n<br />\n<strong>8:50 am - Business Request</strong><br />\nMake your outrageous business-related requests!<br />\n<br />\n<strong>Registration Required!</strong></span></p>\n\n<p><br />\n<span style="font-size: 12px\;"><strong><span style="font-size: 12px\;"><strong><span style="color: rgb(255\, 0\, 0)\;">SAVE! RSVP by&nbsp\;February 14</span></strong>&nbsp\;<br />\n$12 Chamber Members</span></strong><br />\n<br />\nAfter February 14...<br />\n$15 Chamber Members<br />\n$17 walk-in registration at the door</span><br />\n<span style="font-size: 12px\;">$25 non-Chamber Members<br />\n<br />\n&nbsp\;</span></p>\n
LOCATION:the Threshold incorporated Held at the Lawrence & Vivian Stockhausen Center Formerly Pick 'n Save North
UID:e.898.2914
SEQUENCE:3
DTSTAMP:20260421T173453Z
URL:https://business.hartfordareachamber.org/events/details/win-february-21-02-21-2014-2914
END:VEVENT

END:VCALENDAR
