BEGIN:VCALENDAR
VERSION:2.0
PRODID:-//ChamberMaster//Event Calendar 2.0//EN
METHOD:PUBLISH
X-PUBLISHED-TTL:P3D
REFRESH-INTERVAL:P3D
CALSCALE:GREGORIAN
BEGIN:VEVENT
DTSTART:20190719T123000Z
DTEND:20190720T020000Z
X-MICROSOFT-CDO-ALLDAYEVENT:FALSE
SUMMARY:WIN | Germantown | Glacier Hills County Park
DESCRIPTION:Washington County Interactive Networking - WIN\n\nMAP/DIRECTIONS DUE TO CONSTRUCTION ALTERNATE ROUTES MAY BE NEEDED \n\nPRINTABLE FLYER HERE\n\n***7AM Start | Added feature for this event is a guided tour of the park PRIOR to the meeting. Glacier Hills County Park features over 6 miles of trails traversing picturesque kettle moraine terrain near Holy Hill along the shores of Friess Lake. The hike will begin up by the hall and chapel around 7:00am and we'll head towards the lake by the recently restored 2910's ear log cabins. From there we'll hike along the lake and up into the old growth red oak - sugar maple dry mesic forest towards St. Amelian's Bog (a very high quality bog with over 10 different types of sedges and 12 uncommon species including several orchids\, sundews\, and bog rosemary). We'll hike along the elevated sinewy esker between the bogs and along patches of the state threatened kitten tail and back to the Hall for breakfast.\n\n\n\nIncrease your contacts with Washington County Chambers and build your business network!\n\n\n\nNETWORKING FORMAT\n\n7:30 am - Breakfast\n\nMix & mingle with member and their guests from the Hartford\, Germantown & West Bend Area Chambers of Commerce\n\n\n\n8:00 am - :30 Commercial Introductions\n\nShare a 30 second commercial to introduce your business and promote your products or services\n\n\n\n8:40 am - Success Stories\n\nExtend a thank you or share your business success from WIN networking!
X-ALT-DESC;FMTTYPE=text/html:<strong>Washington County Interactive&nbsp\;Networking - WIN<br />\n<a href="https://chambermaster.blob.core.windows.net/userfiles/UserFiles/chambers/898/File/164DETOUR06052019.jpg"><span style="color:#FF0000\;">MAP/DIRECTIONS DUE TO CONSTRUCTION ALTERNATE ROUTES MAY BE NEEDED</span></a><span style="color:#FF0000\;"> </span></strong><br />\n<a href="https://chambermaster.blob.core.windows.net/userfiles/UserFiles/chambers/898/File/071919WINflyer.pdf">PRINTABLE FLYER HERE</a><br />\n<span style="color: rgb(0\, 100\, 0)\;">***</span><strong style="color: rgb(0\, 100\, 0)\;">7AM Start |&nbsp\;</strong><span style="color: rgb(0\, 100\, 0)\;">Added feature for this event is a guided tour of the park PRIOR to the meeting.&nbsp\;Glacier Hills County Park features over 6 miles of trails traversing picturesque kettle moraine terrain near Holy Hill along the shores of Friess Lake. The hike will begin up by the hall and chapel around 7:00am and we&#39\;ll head towards the lake by the recently restored 2910&#39\;s ear log cabins. From there we&#39\;ll hike along the lake and up into the old growth red oak - sugar maple dry mesic forest towards St. Amelian&#39\;s Bog (a very high quality bog with over 10 different types of sedges and 12 uncommon species including several orchids\, sundews\, and bog rosemary). We&#39\;ll hike along the elevated sinewy esker between the bogs and along patches of the state threatened kitten tail and back to the Hall for breakfast.</span><br />\n<br />\nIncrease your contacts with Washington County Chambers and build your business network!<br />\n<br />\n<span style="color: rgb(139\, 69\, 19)\;"><strong>NETWORKING FORMAT</strong></span><br />\n<span style="font-size: 12px\;"><strong>7:30 am - Breakfast</strong><br />\nMix &amp\; mingle with member and their guests from the Hartford\, Germantown &amp\; West Bend Area Chambers of Commerce<br />\n<br />\n<strong>8:00 am - :30 Commercial Introductions</strong><br />\nShare a 30 second commercial to introduce your business and promote your products or services<br />\n<br />\n<strong>8:40 am - Success Stories</strong><br />\nExtend a thank you or share your business success from WIN networking!</span>
LOCATION:Glacier Hills County Park 1664 Friess Lake Rd Hubertus\, WI Directions: HWY 45/41 | Exit 167 W (Holy Hill Rd) West on 167 (5miles) South on Friess Lake Rd. Park Entrance on the Left. Follow park road to Shelter #1. MAP/DIRECTIONS DUE DUE TO CONSTRUCTION ALTERNATE ROUTES MAY BE NEEDED
UID:e.898.5935
SEQUENCE:3
DTSTAMP:20260419T135433Z
URL:https://business.hartfordareachamber.org/events/details/win-germantown-glacier-hills-county-park-5935
END:VEVENT

END:VCALENDAR
