BEGIN:VCALENDAR
VERSION:2.0
PRODID:-//ChamberMaster//Event Calendar 2.0//EN
METHOD:PUBLISH
X-PUBLISHED-TTL:P3D
REFRESH-INTERVAL:P3D
CALSCALE:GREGORIAN
BEGIN:VEVENT
DTSTART:20190315T123000Z
DTEND:20190316T020000Z
X-MICROSOFT-CDO-ALLDAYEVENT:FALSE
SUMMARY:WIN | Germantown | ReStore
DESCRIPTION:Washington County Interactive Networking - WIN\n\nPRINTABLE FLYER HERE\n\n\n\nIncrease your contacts with Washington County Chambers and build your business network!\n\n\n\nNETWORKING FORMAT\n\n7:30 am - Breakfast\n\nMix & mingle with member and their guests from the Hartford\, Germantown & West Bend Area Chambers of Commerce\n\n\n\n8:00 am - :30 Commercial Introductions\n\nShare a 30 second commercial to introduce your business and promote your products or services\n\n\n\n8:40 am - Success Stories\n\nExtend a thank you or share your business success from WIN networking!
X-ALT-DESC;FMTTYPE=text/html:<strong>Washington County Interactive&nbsp\;Networking - WIN</strong><br />\n<a href="https://chambermaster.blob.core.windows.net/userfiles/UserFiles/chambers/898/File/031519WINflyer.pdf">PRINTABLE FLYER HERE</a><br />\n<br />\nIncrease your contacts with Washington County Chambers and build your business network!<br />\n<br />\n<span style="color: rgb(139\, 69\, 19)\;"><strong>NETWORKING FORMAT</strong></span><br />\n<span style="font-size: 12px\;"><strong>7:30 am - Breakfast</strong><br />\nMix &amp\; mingle with member and their guests from the Hartford\, Germantown &amp\; West Bend Area Chambers of Commerce<br />\n<br />\n<strong>8:00 am - :30 Commercial Introductions</strong><br />\nShare a 30 second commercial to introduce your business and promote your products or services<br />\n<br />\n<strong>8:40 am - Success Stories</strong><br />\nExtend a thank you or share your business success from WIN networking!</span>
LOCATION:ReStore - Habitat for Humanity W190 N10768 Commerce Cirlce Germantown\, WI 53022 Directions: HWY 41/45 to Mequon Rd/ Lannon Road/Hwy 167 East exit\; turn east (left) and travel to Maple Road\; turn right onto Maple Road and turn right on Commerce Drive | Behind Kwik Trip
UID:e.898.5894
SEQUENCE:3
DTSTAMP:20260419T195931Z
URL:https://business.hartfordareachamber.org/events/details/win-germantown-restore-5894
END:VEVENT

END:VCALENDAR
