BEGIN:VCALENDAR
VERSION:2.0
PRODID:-//ChamberMaster//Event Calendar 2.0//EN
METHOD:PUBLISH
X-PUBLISHED-TTL:P3D
REFRESH-INTERVAL:P3D
CALSCALE:GREGORIAN
BEGIN:VEVENT
DTSTART:20130118T133000Z
DTEND:20130118T150000Z
X-MICROSOFT-CDO-ALLDAYEVENT:FALSE
SUMMARY:WIN - January 2013
DESCRIPTION:Increase your Contacts in Washington County\n\n	& Build your Business Network!\n\n	 \n\n	WIN\n\n	Washington County Interactive Networking\n\n	Friday\, January 18\, 2013\n\n	\n\n	 \n\n	hosted by\n\n	\n\n	The Gables of Germantown\n\n	N109 W17075 Ava Circle\n\n	Germantown\, WI\n\n	\n\n	Directions:  From the North:  Hwy. 41/45 south to the Mequon Road/Lannon Road/Hwy. 167E exit\; turn left or east which will become Mequon Road\; travel to Division Road (Westbury bank is on corner) and turn right onto Division\; travel about 1/4 mile to the Gables.\n\n	\n\n	\n\n	  7:30 am - Breakfast\n\n	Mix & mingle with member and their guests from the Hartford\, Germantown & West Bend Area Chambers of Commerce\n\n	\n\n	8:00 am - :30 Commercial Introductions\n\n	Share a 30 second commercial to introduce your business and promote your products or services\n\n	\n\n	8:40 am - Success Stories\n\n	Extend a thank you or share your business success from WIN networking!\n\n	\n\n	8:50 am - Business Request\n\n	Make your outrageous business-related requests!\n\n	\n\n	Registration Required!\n\n	\n\n	$15 Chamber Members\n\n	SAVE! RSVP by January 11  $12 Chamber Members\n\n	$17 walk-in registration at the door\n\n	$25 non-Chamber Members
X-ALT-DESC;FMTTYPE=text/html:<p>\n	<strong><span style="color: rgb(178\,34\,34)">Increase your Contacts in Washington County<br />\n	&amp\; Build your Business Network!</span></strong><br />\n	&nbsp\;<br />\n	<span style="font-size: 28px"><strong><span style="font-family: arial">WIN</span></strong></span><br />\n	<strong><span style="font-size: 16px">Washington County Interactive Networking</span></strong><br />\n	<span style="font-size: 16px">Friday\,&nbsp\;January 18\, 2013</span><br />\n	<br />\n	&nbsp\;</p>\n<p>\n	<em><font size="3"><span style="font-size: 14px"><span style="font-size: 16px"><span style="font-size: 14px"><span style="font-size: 16px"><span style="font-size: 12px">hosted by</span></span></span></span></span></font></em><br />\n	<br />\n	<span style="color: rgb(0\,0\,255)"><span style="font-size: 16px"><strong>The Gables&nbsp\;of Germantown</strong><br />\n	<strong>N109 W17075&nbsp\;Ava Circle<br />\n	Germantown\, WI</strong></span></span><br />\n	<br />\n	<span style="color: rgb(0\,0\,0)"><span style="font-size: 16px"><strong><span style="font-size: 12px">Directions:&nbsp\; From the North:&nbsp\; Hwy. 41/45 south to the Mequon Road/Lannon Road/Hwy. 167E exit\; turn left or east which will become Mequon Road\; travel to Division Road (Westbury bank is on&nbsp\;corner) and turn right onto&nbsp\;Division\; travel about 1/4 mile to the&nbsp\;Gables.</span></strong></span></span><br />\n	<br />\n	<br />\n	<span style="font-size: 16px"><span _fck_bookmark="1" style="display: none">&nbsp\;</span></span><span _fck_bookmark="1" style="display: none">&nbsp\;</span><span style="font-size: 12px"><strong>7:30 am - Breakfast</strong><br />\n	Mix &amp\; mingle with member and their guests from the Hartford\, Germantown &amp\; West Bend Area Chambers of Commerce<br />\n	<br />\n	<strong>8:00 am - :30 Commercial Introductions</strong><br />\n	Share a 30 second commercial to introduce your business and promote your products or services<br />\n	<br />\n	<strong>8:40 am - Success Stories</strong><br />\n	Extend a thank you or share your business success from WIN networking!<br />\n	<br />\n	<strong>8:50 am - Business Request</strong><br />\n	Make your outrageous business-related requests!<br />\n	<br />\n	<strong>Registration Required!</strong></span></p>\n<p>\n	<br />\n	<span style="font-size: 12px"><strong>$15 Chamber Members<br />\n	<span style="color: rgb(255\,0\,0)">SAVE! RSVP by&nbsp\;January 11&nbsp\;</span></strong> $12 Chamber Members<br />\n	$17 walk-in registration at the door</span><br />\n	<span style="font-size: 12px">$25 non-Chamber Members<br />\n	<br />\n	&nbsp\;</span></p>\n
LOCATION:The Gables of Germantown
UID:e.898.1704
SEQUENCE:3
DTSTAMP:20260422T114012Z
URL:https://business.hartfordareachamber.org/events/details/win-january-2013-01-18-2013-1704
END:VEVENT

END:VCALENDAR
