BEGIN:VCALENDAR
VERSION:2.0
PRODID:-//ChamberMaster//Event Calendar 2.0//EN
METHOD:PUBLISH
X-PUBLISHED-TTL:P3D
REFRESH-INTERVAL:P3D
CALSCALE:GREGORIAN
BEGIN:VEVENT
DTSTART:20140117T133000Z
DTEND:20140117T150000Z
X-MICROSOFT-CDO-ALLDAYEVENT:FALSE
SUMMARY:WIN - January 2014
DESCRIPTION:Increase your Contacts in Washington County\n\n	& Build your Business Network!\n\n	 \n\n	WIN\n\n	Washington County Interactive Networking\n\n	Friday\, January 17\, 2014\n\n	 \n\n	hosted by\n\n	Best Western Germantown Inn\n\n	W190 N10862 Commerce Circle\n\n	Germantown\, WI\n\n	\n\n	Directions: Hwy. 41/45 to the Mequon Rd/Lannon Rd/Hwy. 167E exit\; turn east and travel to Maple Road (first intersection\; turn south to Commerce Circle behind Kwik Trip Gas Station.\n\n	\n\n	\n\n	  7:30 am - Breakfast\n\n	Mix & mingle with member and their guests from the Hartford\, Germantown & West Bend Area Chambers of Commerce\n\n	\n\n	8:00 am - :30 Commercial Introductions\n\n	Share a 30 second commercial to introduce your business and promote your products or services\n\n	\n\n	8:40 am - Success Stories\n\n	Extend a thank you or share your business success from WIN networking!\n\n	\n\n	8:50 am - Business Request\n\n	Make your outrageous business-related requests!\n\n	\n\n	Registration Required!\n\n	\n\n	$15 Chamber Members\n\n	SAVE! RSVP by January 10  $12 Chamber Members\n\n	$17 walk-in registration at the door\n\n	$25 non-Chamber Members
X-ALT-DESC;FMTTYPE=text/html:<p>\n	<strong><span style="color: rgb(178\, 34\, 34)\;">Increase your Contacts in Washington County<br />\n	&amp\; Build your Business Network!</span></strong><br />\n	&nbsp\;<br />\n	<span style="font-size: 28px\;"><strong><span style="font-family: arial\;">WIN</span></strong></span><br />\n	<strong><span style="font-size: 16px\;">Washington County Interactive Networking</span></strong><br />\n	<span style="font-size: 16px\;">Friday\,&nbsp\;January 17\, 2014</span><br />\n	&nbsp\;</p>\n<p>\n	<em><font size="3"><span style="font-size: 14px\;"><span style="font-size: 16px\;"><span style="font-size: 14px\;"><span style="font-size: 16px\;"><span style="font-size: 12px\;">hosted by</span></span></span></span></span></font></em><br />\n	<span style="font-size: 16px\;"><strong>Best Western Germantown Inn</strong><br />\n	<span style="font-size: 12px\;">W190 N10862 Commerce Circle<br />\n	Germantown\, WI</span></span><br />\n	<br />\n	<span style="color: rgb(0\, 0\, 0)\;"><span style="font-size: 16px\;"><strong><span style="font-size: 12px\;">Directions: </span></strong><span style="font-size: 12px\;">Hwy. 41/45 to the Mequon Rd/Lannon Rd/Hwy. 167E exit\; turn east and travel to Maple Road (first intersection\; turn south to Commerce Circle behind Kwik Trip Gas Station.</span></span></span><br />\n	<br />\n	<br />\n	<span style="font-size: 16px\;"><span _fck_bookmark="1" style="display: none\;">&nbsp\;</span></span><span _fck_bookmark="1" style="display: none\;">&nbsp\;</span><span style="font-size: 12px\;"><strong>7:30 am - Breakfast</strong><br />\n	Mix &amp\; mingle with member and their guests from the Hartford\, Germantown &amp\; West Bend Area Chambers of Commerce<br />\n	<br />\n	<strong>8:00 am - :30 Commercial Introductions</strong><br />\n	Share a 30 second commercial to introduce your business and promote your products or services<br />\n	<br />\n	<strong>8:40 am - Success Stories</strong><br />\n	Extend a thank you or share your business success from WIN networking!<br />\n	<br />\n	<strong>8:50 am - Business Request</strong><br />\n	Make your outrageous business-related requests!<br />\n	<br />\n	<strong>Registration Required!</strong></span></p>\n<p>\n	<br />\n	<span style="font-size: 12px\;"><strong>$15 Chamber Members<br />\n	<span style="color: rgb(255\, 0\, 0)\;">SAVE! RSVP by&nbsp\;January 10&nbsp\;</span></strong> $12 Chamber Members<br />\n	$17 walk-in registration at the door</span><br />\n	<span style="font-size: 12px\;">$25 non-Chamber Members<br />\n	<br />\n	&nbsp\;</span></p>\n
LOCATION:Best Western Germantown Inn
UID:e.898.2903
SEQUENCE:3
DTSTAMP:20260421T151230Z
URL:https://business.hartfordareachamber.org/events/details/win-january-2014-01-17-2014-2903
END:VEVENT

END:VCALENDAR
