BEGIN:VCALENDAR
VERSION:2.0
PRODID:-//ChamberMaster//Event Calendar 2.0//EN
METHOD:PUBLISH
X-PUBLISHED-TTL:P3D
REFRESH-INTERVAL:P3D
CALSCALE:GREGORIAN
BEGIN:VEVENT
DTSTART:20120615T123000Z
DTEND:20120615T140000Z
X-MICROSOFT-CDO-ALLDAYEVENT:FALSE
SUMMARY:WIN - June 2012
DESCRIPTION:Increase your contacts in Washington County\n\n	and build your business network!\n\n	 \n\n	WIN\n\n	Washington County Interactive Networking\n\n	Friday\, June 15\, 2012\n\n	\n\n	Culver's Frozen Custard\n\n	1570 East Sumner Street\n\n	 Hartford\, WI\n\n	\n\n	Catering by: Barbecue Company & Lake Country Catering\n\n	\n\n	Click Here for Flyer\n\n	\n\n	7:30 am - Breakfast\n\n	Mix & mingle with member and their guests from the Hartford\, Germantown & West Bend Area Chambers of Commerce\n\n	\n\n	8:00 am - :30 Commercials\n\n	Share a 30 second commercial to introduce your business and promote your products or services\n\n	\n\n	8:40 am - Success Stories\n\n	Extend a thank you or share your business success from WIN networking!\n\n	\n\n	8:50 am - Business Request\n\n	Make your outrageous business-related requests!\n\n	\n\n	Registration Required!\n\n	$10 Chamber Members\n\n	$20 non-Chamber Members\n\n	\n\n	Registration Deadline is Tuesday\, June 12!\n\n	After deadline\, cost is:\n\n	$12 Chamber Members\n\n	$22 non-Chamber Members
X-ALT-DESC;FMTTYPE=text/html:<p>\n	<strong><span style="color: #b22222">Increase your contacts in Washington County<br />\n	and build your business network!</span></strong><br />\n	&nbsp\;<br />\n	<span style="font-size: 28px"><strong><span style="font-family: arial">WIN</span></strong></span><br />\n	<strong><span style="font-size: 16px">Washington County Interactive Networking</span></strong><br />\n	<span style="font-size: 16px">Friday\, June 15\, 2012</span><br />\n	<br />\n	<span style="font-size: 16px"><span style="font-weight: bold">Culver&#39\;s Frozen Custard</span></span><br />\n	<span style="font-size:14px\;">1570 East Sumner Street</span><br />\n	<span style="font-size: 14px"> Hartford\, WI<br />\n	<br />\n	<strong>Catering by:</strong> Barbecue Company &amp\; Lake Country Catering<br />\n	<strong><a href="http://cloud.chambermaster.com/userfiles/UserFiles/chambers/898/File/6-15-12WINflyer2.pdf"><br />\n	Click Here for Flyer</a></strong></span><br />\n	<br />\n	<strong><span style="font-size: 16px"><span style="font-size: 18px"><span style="font-size: 14px">7:30 am - Breakfast</span></span></span></strong><br />\n	<span style="font-size: 16px"><span style="font-size: 18px"><span style="font-size: 14px">Mix &amp\; mingle with member and their guests from the Hartford\, Germantown &amp\; West Bend Area Chambers of Commerce<br />\n	<br />\n	<strong>8:00 am - :30 Commercials</strong><br />\n	Share a 30 second commercial to introduce your business and promote your products or services<br />\n	<br />\n	<strong>8:40 am - Success Stories</strong><br />\n	Extend a thank you or share your business success from WIN networking!<br />\n	<br />\n	<strong>8:50 am - Business Request</strong><br />\n	Make your outrageous business-related requests!<br />\n	<br />\n	<strong>Registration Required!</strong><br />\n	$10 Chamber Members<br />\n	$20 non-Chamber Members<br />\n	<br />\n	<strong>Registration Deadline is Tuesday\, June 12!</strong><br />\n	After deadline\, cost is:<br />\n	$12 Chamber Members<br />\n	$22 non-Chamber Members</span></span></span><br />\n	&nbsp\;</p>\n
LOCATION:Culver's Frozen Custard 1570 East Sumner Street Hartford\, 53027
UID:e.898.1182
SEQUENCE:3
DTSTAMP:20260424T101817Z
URL:https://business.hartfordareachamber.org/events/details/win-june-2012-06-15-2012-1182
END:VEVENT

END:VCALENDAR
