BEGIN:VCALENDAR
VERSION:2.0
PRODID:-//ChamberMaster//Event Calendar 2.0//EN
METHOD:PUBLISH
X-PUBLISHED-TTL:P3D
REFRESH-INTERVAL:P3D
CALSCALE:GREGORIAN
BEGIN:VEVENT
DTSTART:20130621T123000Z
DTEND:20130621T140000Z
X-MICROSOFT-CDO-ALLDAYEVENT:FALSE
SUMMARY:WIN - June 2013
DESCRIPTION:Increase your Contacts in Washington County\n\n	& Build your Business Network!\n\n	 \n\n	WIN\n\n	Washington County Interactive Networking\n\n	Friday\, June 21\, 2013\n\n	\n\n	hosted by\n\n	\n\n	Washington County Golf Course ~ Hartford\n\n	6439 Clover Road\n\n	Hartford\, WI\n\n	\n\n	Directions:   \n\n	Hwy 41 to Hartford exit WI-60 west towards Slinger/Hartford.\n\n	Turn right (North) at Kettle Moraine Drive (Pike Lake State Park & Goemen's Rapid Mart) and proceed to Clover Road. Turn left (West) onto Clover Road to the course.\n\n	 \n\n	\n\n	\n\n	7:30 am - Breakfast\n\n	Mix & mingle with member and their guests from the Hartford\, Germantown & West Bend Area Chambers of Commerce\n\n	\n\n	8:00 am - :30 Commercial Introductions\n\n	Share a 30 second commercial to introduce your business and promote your products or services\n\n	\n\n	8:40 am - Success Stories\n\n	Extend a thank you or share your business success from WIN networking!\n\n	\n\n	8:50 am - Business Request\n\n	Make your outrageous business-related requests!\n\n	\n\n	 \n\n	$15 Chamber Members\n\n	SAVE! Early Bird\n\n	register by June 14\, 5 pm\n\n	Members only $12\n\n	\n\n	$25 for Non-Chamber Members
X-ALT-DESC;FMTTYPE=text/html:<p>\n	<strong><span style="color: rgb(178\, 34\, 34)\;">Increase your Contacts in Washington County<br />\n	&amp\; Build your Business Network!</span></strong><br />\n	&nbsp\;<br />\n	<span style="font-size: 28px\;"><strong><span style="font-family: arial\;">WIN</span></strong></span><br />\n	<strong><span style="font-size: 16px\;">Washington County Interactive Networking</span></strong><br />\n	<span style="font-size: 16px\;">Friday\,&nbsp\;June 21\, 2013</span><br />\n	<br />\n	<em><font size="3"><span style="font-size: 14px\;"><span style="font-size: 16px\;"><span style="font-size: 14px\;"><span style="font-size: 16px\;"><span style="font-size: 12px\;">hosted by</span></span></span></span></span></font></em><br />\n	<br />\n	<strong><span style="font-size: 16px\;">Washington County Golf Course ~ Hartford</span></strong><br />\n	6439 Clover Road<br />\n	Hartford\, WI<br />\n	<br />\n	<font size="3"><span style="font-size: 14px\;"><span style="font-size: 16px\;"><span style="font-size: 12px\;">Directions:&nbsp\;&nbsp\;&nbsp\;</span></span></span></font><br />\n	<span style="font-family: arial\;"><span style="language: EN\;">Hwy 41 to Hartford&mdash\;exit WI-60 west towards Slinger/Hartford.</span><br />\n	<span style="language: EN\;">Turn right (North) at Kettle Moraine Drive (Pike Lake State Park &amp\; Goemen&rsquo\;s Rapid Mart) </span><span style="language: EN\;">and proceed to Clover Road. Turn left (West) onto Clover Road to the course.</span><br />\n	&nbsp\;</span><br />\n	<br />\n	<br />\n	<strong><span style="font-size: 16px\;"><span style="font-size: 18px\;"><span style="font-size: 14px\;">7:30 am - Breakfast</span></span></span></strong><br />\n	<span style="font-size: 16px\;"><span style="font-size: 18px\;"><span style="font-size: 14px\;">Mix &amp\; mingle with member and their guests from the Hartford\, Germantown &amp\; West Bend Area Chambers of Commerce<br />\n	<br />\n	<strong>8:00 am - :30 Commercial Introductions</strong><br />\n	Share a 30 second commercial to introduce your business and promote your products or services<br />\n	<br />\n	<strong>8:40 am - Success Stories</strong><br />\n	Extend a thank you or share your business success from WIN networking!<br />\n	<br />\n	<strong>8:50 am - Business Request</strong><br />\n	Make your outrageous business-related requests!<br />\n	<br />\n	&nbsp\;</span></span></span></p>\n<p>\n	<strong><span style="font-size: 16px\;"><span style="font-size: 18px\;"><span style="font-size: 14px\;">$15 Chamber Members</span></span></span></strong></p>\n<p>\n	<span style="font-size: 16px\;"><span style="font-size: 18px\;"><span style="font-size: 14px\;"><strong>SAVE! Early Bird</strong><br />\n	register by&nbsp\;June 14\, 5 pm<br />\n	Members only $12<br />\n	<br />\n	$25 for Non-Chamber Members</span></span></span></p>\n
LOCATION:held at Washington County Golf Course ~ Hartford 6439 Clover Road Hartford\, WI
UID:e.898.1824
SEQUENCE:3
DTSTAMP:20260422T024651Z
URL:https://business.hartfordareachamber.org/events/details/win-june-2013-06-21-2013-1824
END:VEVENT

END:VCALENDAR
