BEGIN:VCALENDAR
VERSION:2.0
PRODID:-//ChamberMaster//Event Calendar 2.0//EN
METHOD:PUBLISH
X-PUBLISHED-TTL:P3D
REFRESH-INTERVAL:P3D
CALSCALE:GREGORIAN
BEGIN:VEVENT
DTSTART:20130315T123000Z
DTEND:20130315T140000Z
X-MICROSOFT-CDO-ALLDAYEVENT:FALSE
SUMMARY:WIN - March 2013
DESCRIPTION:Increase your Contacts in Washington County\n\n	& Build your Business Network!\n\n	 \n\n	WIN\n\n	Washington County Interactive Networking\n\n	Friday\, March 15\, 2013\n\n	\n\n	hosted by\n\n	Allenton Promotions\n\n	\n\n	held at\n\n	Aidan O'Reilly's Pub & Grill - Allenton\n\n	402 Main Street\, Allenton\n\n	\n\n	1/4 mile West of Hwy. 41 on 33 \n\n	\n\n	\n\n	7:30 am - Breakfast\n\n	Mix & mingle with member and their guests from the Hartford\, Germantown & West Bend Area Chambers of Commerce\n\n	\n\n	8:00 am - :30 Commercial Introductions\n\n	Share a 30 second commercial to introduce your business and promote your products or services\n\n	\n\n	8:40 am - Success Stories\n\n	Extend a thank you or share your business success from WIN networking!\n\n	\n\n	8:50 am - Business Request\n\n	Make your outrageous business-related requests!\n\n	\n\n	 \n\n	$15 Chamber Members\n\n	SAVE! Early Bird\n\n	register by March 8\, 5 pm\n\n	Members only $12\n\n	\n\n	$25 for Non-Chamber Members
X-ALT-DESC;FMTTYPE=text/html:<p>\n	<strong><span style="color: rgb(178\,34\,34)">Increase your Contacts in Washington County<br />\n	&amp\; Build your Business Network!</span></strong><br />\n	&nbsp\;<br />\n	<span style="font-size: 28px"><strong><span style="font-family: arial">WIN</span></strong></span><br />\n	<strong><span style="font-size: 16px">Washington County Interactive Networking</span></strong><br />\n	<span style="font-size: 16px">Friday\,&nbsp\;March 15\, 2013</span><br />\n	<br />\n	<em><font size="3"><span style="font-size: 14px"><span style="font-size: 16px"><span style="font-size: 14px"><span style="font-size: 16px"><span style="font-size: 12px">hosted by</span></span></span></span></span></font></em><br />\n	<span style="font-size: 18px"><strong>Allenton Promotions</strong></span><br />\n	<br />\n	<span style="font-size:12px\;"><em>held at</em></span><br />\n	<strong><span style="font-size: 16px"><span style="font-size: 12px"><span style="font-size: 14px">Aidan O&#39\;Reilly&#39\;s Pub &amp\; Grill </span>- <span style="font-size: 14px">Allenton</span></span></span></strong><br />\n	<font size="3"><span style="font-size: 14px"><span style="font-size: 16px"><span style="font-size: 12px">402 Main Street\, Allenton<br />\n	<br />\n	1/4 mile West of Hwy.&nbsp\;41 on 33&nbsp\;</span></span></span></font><br />\n	<br />\n	<br />\n	<strong><span style="font-size: 16px"><span style="font-size: 18px"><span style="font-size: 14px">7:30 am - Breakfast</span></span></span></strong><br />\n	<span style="font-size: 16px"><span style="font-size: 18px"><span style="font-size: 14px">Mix &amp\; mingle with member and their guests from the Hartford\, Germantown &amp\; West Bend Area Chambers of Commerce<br />\n	<br />\n	<strong>8:00 am - :30 Commercial Introductions</strong><br />\n	Share a 30 second commercial to introduce your business and promote your products or services<br />\n	<br />\n	<strong>8:40 am - Success Stories</strong><br />\n	Extend a thank you or share your business success from WIN networking!<br />\n	<br />\n	<strong>8:50 am - Business Request</strong><br />\n	Make your outrageous business-related requests!<br />\n	<br />\n	&nbsp\;</span></span></span></p>\n<p>\n	<strong><span style="font-size: 16px"><span style="font-size: 18px"><span style="font-size: 14px">$15 Chamber Members</span></span></span></strong></p>\n<p>\n	<span style="font-size: 16px"><span style="font-size: 18px"><span style="font-size: 14px"><strong>SAVE! Early Bird</strong><br />\n	register by March 8\, 5 pm<br />\n	Members only $12<br />\n	<br />\n	$25 for Non-Chamber Members</span></span></span></p>\n
LOCATION:held at Aidan O'Reilly's Pub & Grill 402 Main Street Allenton\, WI 1/4 mile West of Hwy. 41 on 33
UID:e.898.1705
SEQUENCE:3
DTSTAMP:20260422T082820Z
URL:https://business.hartfordareachamber.org/events/details/win-march-2013-03-15-2013-1705
END:VEVENT

END:VCALENDAR
