BEGIN:VCALENDAR
VERSION:2.0
PRODID:-//ChamberMaster//Event Calendar 2.0//EN
METHOD:PUBLISH
X-PUBLISHED-TTL:P3D
REFRESH-INTERVAL:P3D
CALSCALE:GREGORIAN
BEGIN:VEVENT
DTSTART:20140321T123000Z
DTEND:20140321T140000Z
X-MICROSOFT-CDO-ALLDAYEVENT:FALSE
SUMMARY:WIN-March 21
DESCRIPTION:Increase your Contacts in Washington County\n\n& Build your Business Network!\n\n \n\nWIN\n\nWashington County Interactive Networking\n\nFriday\, March 21\, 2014\n\nHeld at\n\nJack Russell Memorial Library\n\n100 Park Avenue\, Hartford\n\n(262) 673-8240\n\nwith\n\nHartford Electric & WPPI Energy\n\nSpecial Guest \n\nMike Gentry\, Energy Services Representative\n\nFocus on Energy\n\n \n\nClick HERE for a copy of the event flyer!\n\n\n\nNETWORKING FORMAT\n\n\n\n  7:30 am - Breakfast\n\nMix & mingle with member and their guests from the Hartford\, Germantown & West Bend Area Chambers of Commerce\n\n\n\n8:00 am - :30 Commercial Introductions\n\nShare a 30 second commercial to introduce your business and promote your products or services\n\n\n\n8:40 am - Success Stories\n\nExtend a thank you or share your business success from WIN networking!\n\n\n\n8:50 am - Business Request\n\nMake your outrageous business-related requests!\n\n\n\nRegistration Required!\n\n\n\nSAVE! RSVP by March 14 \n\n$12 Chamber Members\n\n\n\nAfter March 14...\n\n$15 Chamber Members\n\n$17 walk-in registration at the door\n\n$25 non-Chamber Members
X-ALT-DESC;FMTTYPE=text/html:<p><strong><span style="color: rgb(178\, 34\, 34)\;">Increase your Contacts in Washington County<br />\n&amp\; Build your Business Network!</span></strong><br />\n&nbsp\;<br />\n<span style="font-size: 28px\;"><strong><span style="font-family: arial\;">WIN</span></strong></span><br />\n<strong><span style="font-size: 16px\;">Washington County Interactive Networking</span></strong><br />\n<span style="font-size: 16px\;">Friday\,&nbsp\;March 21\, 2014</span></p>\n\n<p><span style="font-style: italic\; language: EN\;"><span style="font-family: candara\;">Held at</span></span><br />\n<span style="font-weight: bold\; language: EN\;"><span style="color: rgb(52\, 103\, 54)\;"><span style="font-family: candara\;"><span style="font-size: 22pt\;">Jack Russell Memorial Library</span></span></span></span><br />\n<span style="font-weight: bold\; language: EN\;"><span style="font-family: candara\;"><span style="font-size: 16pt\;">100 Park Avenue\, Hartford<br />\n(262) 673-8240</span></span></span><br />\n<span style="font-style: italic\; language: EN\;"><span style="font-family: candara\;">with</span></span><br />\n<span style="font-weight: bold\; language: EN\;"><span style="color: rgb(52\, 103\, 54)\;"><span style="font-family: candara\;"><span style="font-size: 18pt\;">Hartford Electric &amp\; WPPI Energy</span></span></span></span><br />\n<span style="font-style: italic\; language: EN\;"><span style="font-family: candara\;">Special Guest </span></span><br />\n<span style="font-weight: bold\; language: EN\;"><span style="color: rgb(52\, 103\, 54)\;"><span style="font-family: candara\;"><span style="font-size: 11pt\;">Mike Gentry\, Energy Services Representative<br />\nFocus on Energy</span></span></span></span><br />\n&nbsp\;<br />\nClick <a href="http://cloud.chambermaster.com/userfiles/UserFiles/chambers/898/File/flyer-03212014JackRussel.pdf" target="_blank">HERE</a> for a copy of the event flyer!<br />\n<br />\n<strong>NETWORKING FORMAT</strong><br />\n<br />\n<span style="font-size: 16px\;"><span _fck_bookmark="1" style="display: none\;">&nbsp\;</span></span><span _fck_bookmark="1" style="display: none\;">&nbsp\;</span><span style="font-size: 12px\;"><strong>7:30 am - Breakfast</strong><br />\nMix &amp\; mingle with member and their guests from the Hartford\, Germantown &amp\; West Bend Area Chambers of Commerce<br />\n<br />\n<strong>8:00 am - :30 Commercial Introductions</strong><br />\nShare a 30 second commercial to introduce your business and promote your products or services<br />\n<br />\n<strong>8:40 am - Success Stories</strong><br />\nExtend a thank you or share your business success from WIN networking!<br />\n<br />\n<strong>8:50 am - Business Request</strong><br />\nMake your outrageous business-related requests!<br />\n<br />\n<strong>Registration Required!</strong></span></p>\n\n<p><br />\n<span style="font-size: 12px\;"><strong><span style="color: rgb(255\, 0\, 0)\;">SAVE! RSVP by&nbsp\;March 14</span></strong>&nbsp\;<br />\n<strong>$12 Chamber Members</strong></span><br />\n<br />\n<span style="font-size: 12px\;">After March 14...<br />\n$15 Chamber Members<br />\n$17 walk-in registration at the door</span><br />\n<span style="font-size: 12px\;">$25 non-Chamber Members</span></p>\n
LOCATION:
UID:e.898.2944
SEQUENCE:3
DTSTAMP:20260420T093032Z
URL:https://business.hartfordareachamber.org/events/details/win-march-21-03-21-2014-2944
END:VEVENT

END:VCALENDAR
