BEGIN:VCALENDAR
VERSION:2.0
PRODID:-//ChamberMaster//Event Calendar 2.0//EN
METHOD:PUBLISH
X-PUBLISHED-TTL:P3D
REFRESH-INTERVAL:P3D
CALSCALE:GREGORIAN
BEGIN:VEVENT
DTSTART:20130517T123000Z
DTEND:20130517T140000Z
X-MICROSOFT-CDO-ALLDAYEVENT:FALSE
SUMMARY:WIN - May 2013
DESCRIPTION:Increase your Contacts in Washington County\n\n		& Build your Business Network!\n\n		\n\n		WIN\n\n		Washington County Interactive Networking\n\n		Friday\, May 17\, 2013\n\n		\n\n		hosted by\n\n		\n\n		PNC Bank\n\n		West Bend\n\n		\n\n		Directions:\n\n		\n\n		PNC is located on the corner of Paradise and Main Streets.\n\n		From the Highway 45 Bypass\, exit at the Paradise Drive Exit.  Travel east to Main Street.  Travel through intersection and turn left into PNC Bank parking lot\, or turn left on Main Street (at lights) and staying in the right lane\, turn right into parking lot.\n\n		\n\n		\n\n		7:30 am - Breakfast\n\n		Mix & mingle with member and their guests from the Hartford\, Germantown & West Bend Area Chambers of Commerce\n\n		\n\n		8:00 am - :30 Commercial Introductions\n\n		Share a 30 second commercial to introduce your business and promote your products or services\n\n		\n\n		8:40 am - Success Stories\n\n		Extend a thank you or share your business success from WIN networking!\n\n		\n\n		8:50 am - Business Request\n\n		Make your outrageous business-related requests!\n\n		\n\n		PNC will also be giving away a $100 Visa Gift-Card in a "Business Card Fishbowl Drop"!  Bring your business card to enter\; must be present to win!
X-ALT-DESC;FMTTYPE=text/html:<div style="color: gray\;">\n	<p>\n		<strong><span style="color: rgb(178\, 34\, 34)\;">Increase your Contacts in Washington County<br />\n		&amp\; Build your Business Network!</span></strong><br />\n		<br />\n		<span style="color: rgb(0\, 0\, 0)\;"><span style="font-size: 28px\;"><span style="font-family: arial\;">WIN</span></span><br />\n		<span style="font-size: 16px\;">Washington County Interactive Networking</span><br />\n		<span style="font-size: 16px\;">Friday\,&nbsp\;May 17\, 2013</span><br />\n		<br />\n		<em><font size="3"><span style="font-size: 14px\;"><span style="font-size: 16px\;"><span style="font-size: 14px\;"><span style="font-size: 16px\;"><span style="font-size: 12px\;">hosted by</span></span></span></span></span></font></em><br />\n		<br />\n		<font size="3">PNC Bank</font><br />\n		West Bend<br />\n		<br />\n		<font size="3"><span style="font-size: 14px\;"><span style="font-size: 16px\;"><span style="font-size: 12px\;">Directions:<br />\n		<br />\n		PNC is located on the corner of Paradise and Main Streets.<br />\n		From the Highway 45 Bypass\, exit at the Paradise Drive Exit.&nbsp\; Travel east to Main Street.&nbsp\; Travel through intersection and turn left into PNC Bank parking lot\, or turn left on Main Street (at lights) and staying in the right lane\, turn right into parking lot.</span></span></span></font><br />\n		<br />\n		<br />\n		<span style="font-size: 16px\;"><span style="font-size: 18px\;"><span style="font-size: 14px\;">7:30 am - Breakfast</span></span></span><br />\n		<span style="font-size: 16px\;"><span style="font-size: 18px\;"><span style="font-size: 14px\;">Mix &amp\; mingle with member and their guests from the Hartford\, Germantown &amp\; West Bend Area Chambers of Commerce<br />\n		<br />\n		8:00 am - :30 Commercial Introductions<br />\n		Share a 30 second commercial to introduce your business and promote your products or services<br />\n		<br />\n		8:40 am - Success Stories<br />\n		Extend a thank you or share your business success from WIN networking!<br />\n		<br />\n		8:50 am - Business Request<br />\n		Make your outrageous business-related requests!</span></span></span></span><br />\n		<br />\n		<strong><span style="font-size: 14px\;"><span style="color: rgb(0\, 0\, 255)\;">PNC will also be giving away a $100 Visa Gift-Card in a &quot\;Business Card Fishbowl Drop&quot\;!&nbsp\; Bring your business card to enter\; must be present to win!</span></span></strong></p>\n	<p>\n		<br />\n		&nbsp\;</p>\n</div>\n
LOCATION:PNC Bank West Bend Directions: PNC is located on the corner of Paradise and Main Streets. From the Highway 45 Bypass\, exit at the Paradise Drive Exit. Travel east to Main Street. Travel through intersection and turn left into PNC Bank parking lot\, or turn left on Main Street (at lights) and staying in the right lane\, turn right into parking lot. Click here to edit...
UID:e.898.1809
SEQUENCE:3
DTSTAMP:20260422T042446Z
URL:https://business.hartfordareachamber.org/events/details/win-may-2013-05-17-2013-1809
END:VEVENT

END:VCALENDAR
