BEGIN:VCALENDAR
VERSION:2.0
PRODID:-//ChamberMaster//Event Calendar 2.0//EN
METHOD:PUBLISH
X-PUBLISHED-TTL:P3D
REFRESH-INTERVAL:P3D
CALSCALE:GREGORIAN
BEGIN:VEVENT
DTSTART:20140516T123000Z
DTEND:20140516T140000Z
X-MICROSOFT-CDO-ALLDAYEVENT:FALSE
SUMMARY:WIN - May 2014
DESCRIPTION:Increase your Contacts in Washington County\n\n& Build your Business Network!\n\n \n\nWIN\n\nWashington County Interactive Networking\n\nFriday\, May 16\, 2014\n\n\n\nCharter Business &\n\nKing Pin Bowl and Ale House\n\n1022 South Main Street\, West Bend\n\n\n\nDirections: from the north or south\, take Hwy 41/45 to the Paradise Drive Exit. Travel East to Main Street. Turn left on Main Street to King Pin Bowl and Ale House\, located on the west side of Main Street. There is plenty of parking in the King Pin lot!\n\n\n\nClick HERE for a copy of the event flyer!\n\n\n\nNETWORKING FORMAT\n\n\n\n  7:30 am - Breakfast\n\nMix & mingle with member and their guests from the Hartford\, Germantown & West Bend Area Chambers of Commerce\n\n\n\n8:00 am - :30 Commercial Introductions\n\nShare a 30 second commercial to introduce your business and promote your products or services\n\n\n\n8:40 am - Success Stories\n\nExtend a thank you or share your business success from WIN networking!\n\n\n\n8:50 am - Business Request\n\nMake your outrageous business-related requests!\n\n\n\nRegistration Required!\n\n\n\nCANCELLATION POLICY: Substitutions accepted at any time. No shows will be charged.\n\nSAVE! RSVP by May 9\n\n$12 Chamber Members\n\n\n\nAfter May 9...\n\n$15 Chamber Members\n\n$17 walk-in registration at the door\n\n$25 non-Chamber Members
X-ALT-DESC;FMTTYPE=text/html:<p><strong><span style="color: rgb(178\, 34\, 34)\;">Increase your Contacts in Washington County<br />\n&amp\; Build your Business Network!</span></strong><br />\n&nbsp\;<br />\n<span style="font-size: 28px\;"><strong><span style="font-family: arial\;">WIN</span></strong></span><br />\n<strong><span style="font-size: 16px\;">Washington County Interactive Networking</span></strong><br />\n<span style="font-size: 16px\;">Friday\,&nbsp\;May 16\, 2014</span><br />\n<br />\n<strong><em><font size="3"><span style="color: rgb(0\, 0\, 255)\;">Charter Business </span>&amp\;<br />\n<span style="color: rgb(165\, 42\, 42)\;">King Pin Bowl and Ale House</span></font></em></strong><br />\n<strong>1022 South Main Street\, West Bend</strong><br />\n<br />\nDirections: from the north or south\, take Hwy 41/45 to the Paradise Drive Exit. Travel East to Main Street. Turn left on Main Street to King Pin Bowl and Ale House\, located on the west side of Main Street. There is plenty of parking in the King Pin lot!<br />\n<br />\nClick <a href="http://cloud.chambermaster.com/userfiles/UserFiles/chambers/898/File/flyer-May2014KingPinandCharterinWB.pdf">HERE</a> for a copy of the event flyer!<br />\n<br />\nNETWORKING FORMAT<br />\n<br />\n<span style="font-size: 16px\;"><span _fck_bookmark="1" style="display: none\;">&nbsp\;</span></span><span _fck_bookmark="1" style="display: none\;">&nbsp\;</span><span style="font-size: 12px\;"><strong>7:30 am - Breakfast</strong><br />\nMix &amp\; mingle with member and their guests from the Hartford\, Germantown &amp\; West Bend Area Chambers of Commerce<br />\n<br />\n<strong>8:00 am - :30 Commercial Introductions</strong><br />\nShare a 30 second commercial to introduce your business and promote your products or services<br />\n<br />\n<strong>8:40 am - Success Stories</strong><br />\nExtend a thank you or share your business success from WIN networking!<br />\n<br />\n<strong>8:50 am - Business Request</strong><br />\nMake your outrageous business-related requests!<br />\n<br />\n<strong>Registration Required!</strong></span><br />\n<br />\nCANCELLATION POLICY: Substitutions accepted at any time. No shows will be charged.</p>\n\n<p><strong><font color="#ff0000">SAVE! RSVP by May 9</font></strong><br />\n<span style="font-size: 12px\;"><strong>$12 Chamber Members</strong><br />\n<br />\nAfter May 9...<br />\n$15 Chamber Members<br />\n$17 walk-in registration at the door</span><br />\n<span style="font-size: 12px\;">$25 non-Chamber Members</span></p>\n
LOCATION:
UID:e.898.3085
SEQUENCE:3
DTSTAMP:20260419T212602Z
URL:https://business.hartfordareachamber.org/events/details/win-may-2014-05-16-2014-3085
END:VEVENT

END:VCALENDAR
