BEGIN:VCALENDAR
VERSION:2.0
PRODID:-//ChamberMaster//Event Calendar 2.0//EN
METHOD:PUBLISH
X-PUBLISHED-TTL:P3D
REFRESH-INTERVAL:P3D
CALSCALE:GREGORIAN
BEGIN:VEVENT
DTSTART:20121116T133000Z
DTEND:20121116T150000Z
X-MICROSOFT-CDO-ALLDAYEVENT:FALSE
SUMMARY:WIN - November 2012
DESCRIPTION:Increase your Contacts in Washington County\n\n	& Build your Business Network!\n\n	 \n\n	WIN\n\n	Washington County Interactive Networking\n\n	Friday\, November 16\, 2012\n\n	\n\n	 \n\n	St. John's on Main\n\n	820 South Main Street\n\n	West Bend\, WI 53095\n\n	\n\n	Click Here for Flyer\n\n	\n\n	7:30 am - Breakfast\n\n	Mix & mingle with member and their guests from the Hartford\, Germantown & West Bend Area Chambers of Commerce\n\n	\n\n	8:00 am - :30 Commercial Introductions\n\n	Share a 30 second commercial to introduce your business and promote your products or services\n\n	\n\n	8:40 am - Success Stories\n\n	Extend a thank you or share your business success from WIN networking!\n\n	\n\n	8:50 am - Business Request\n\n	Make your outrageous business-related requests!\n\n	\n\n	Registration Required!\n\n	\n\n	SAVE! RSVP by November 13\n\n	$10 Chamber Members\n\n	$20 non-Chamber Members\n\n	\n\n	After deadline\, cost is:\n\n	$12 Chamber Members\n\n	$22 non-Chamber Members
X-ALT-DESC;FMTTYPE=text/html:<p>\n	<strong><span style="color: #b22222">Increase your Contacts in Washington County<br />\n	&amp\; Build your Business Network!</span></strong><br />\n	&nbsp\;<br />\n	<span style="font-size: 28px"><strong><span style="font-family: arial">WIN</span></strong></span><br />\n	<strong><span style="font-size: 16px">Washington County Interactive Networking</span></strong><br />\n	<span style="font-size: 16px">Friday\, November 16\, 2012</span><br />\n	<br />\n	&nbsp\;</p>\n<p>\n	<strong><font size="3"><span style="font-size: 14px"><span style="font-size: 16px"><span style="color: #0000cd"><strong>St. John&#39\;s on Main</strong></span></span></span></font></strong><br />\n	<font size="3"><span style="font-size: 14px">820 South Main Street<br />\n	West Bend\, WI 53095</span></font><br />\n	<br />\n	<a href="http://cloud.chambermaster.com/userfiles/UserFiles/chambers/898/File/101912WINflyer.pdf"><span style="font-size: 14px"><strong>Click Here for Flyer</strong></span></a><br />\n	<br />\n	<strong><span style="font-size: 16px"><span style="font-size: 18px"><span style="font-size: 14px">7:30 am - Breakfast</span></span></span></strong><br />\n	<span style="font-size: 16px"><span style="font-size: 18px"><span style="font-size: 14px">Mix &amp\; mingle with member and their guests from the Hartford\, Germantown &amp\; West Bend Area Chambers of Commerce<br />\n	<br />\n	<strong>8:00 am - :30 Commercial Introductions</strong><br />\n	Share a 30 second commercial to introduce your business and promote your products or services<br />\n	<br />\n	<strong>8:40 am - Success Stories</strong><br />\n	Extend a thank you or share your business success from WIN networking!<br />\n	<br />\n	<strong>8:50 am - Business Request</strong><br />\n	Make your outrageous business-related requests!<br />\n	<br />\n	<strong>Registration Required!<br />\n	<br />\n	<span style="color: #ff0000">SAVE! RSVP by November 13</span></strong><br />\n	$10 Chamber Members<br />\n	$20 non-Chamber Members<br />\n	<br />\n	After deadline\, cost is:<br />\n	$12 Chamber Members<br />\n	$22 non-Chamber Members</span></span></span><br />\n	&nbsp\;</p>\n
LOCATION:St. John's on Main 820 South Main Street West Bend\, WI 53022 Corner of Main & Decorah Next to Tuesday Morning
UID:e.898.1663
SEQUENCE:3
DTSTAMP:20260422T142225Z
URL:https://business.hartfordareachamber.org/events/details/win-november-2012-11-16-2012-1663
END:VEVENT

END:VCALENDAR
