BEGIN:VCALENDAR
VERSION:2.0
PRODID:-//ChamberMaster//Event Calendar 2.0//EN
METHOD:PUBLISH
X-PUBLISHED-TTL:P3D
REFRESH-INTERVAL:P3D
CALSCALE:GREGORIAN
BEGIN:VEVENT
DTSTART:20121019T123000Z
DTEND:20121019T140000Z
X-MICROSOFT-CDO-ALLDAYEVENT:FALSE
SUMMARY:WIN - October 2012
DESCRIPTION:Increase your Contacts in Washington County\n\n	& Build your Business Network!\n\n	 \n\n	WIN\n\n	Washington County Interactive Networking\n\n	Friday\, October 19\, 2012\n\n	\n\n	 \n\n	Barley Pop Pub\n\n	N116 N16137 Main Street\n\n	Germantown\, WI 53022\n\n	\n\n	Click Here for Flyer\n\n	\n\n	7:30 am - Breakfast\n\n	Mix & mingle with member and their guests from the Hartford\, Germantown & West Bend Area Chambers of Commerce\n\n	\n\n	8:00 am - :30 Commercial Introductions\n\n	Share a 30 second commercial to introduce your business and promote your products or services\n\n	\n\n	8:40 am - Success Stories\n\n	Extend a thank you or share your business success from WIN networking!\n\n	\n\n	8:50 am - Business Request\n\n	Make your outrageous business-related requests!\n\n	\n\n	Registration Required!\n\n	\n\n	SAVE! RSVP by October 16\n\n	$10 Chamber Members\n\n	$20 non-Chamber Members\n\n	\n\n	After deadline\, cost is:\n\n	$12 Chamber Members\n\n	$22 non-Chamber Members
X-ALT-DESC;FMTTYPE=text/html:<p>\n	<strong><span style="color: #b22222">Increase your Contacts in Washington County<br />\n	&amp\; Build your Business Network!</span></strong><br />\n	&nbsp\;<br />\n	<span style="font-size: 28px"><strong><span style="font-family: arial">WIN</span></strong></span><br />\n	<strong><span style="font-size: 16px">Washington County Interactive Networking</span></strong><br />\n	<span style="font-size: 16px">Friday\, October 19\, 2012</span><br />\n	<br />\n	&nbsp\;</p>\n<p>\n	<strong><font size="3"><span style="font-size: 14px"><span style="font-size: 16px"><span style="color: #0000cd"><strong>Barley Pop Pub</strong></span></span></span></font></strong><br />\n	<font size="3"><span style="font-size: 14px">N116 N16137 Main Street<br />\n	Germantown\, WI 53022</span></font><br />\n	<br />\n	<a href="http://cloud.chambermaster.com/userfiles/UserFiles/chambers/898/File/101912WINflyer.pdf"><span style="font-size: 14px"><strong>Click Here for Flyer</strong></span></a><br />\n	<br />\n	<strong><span style="font-size: 16px"><span style="font-size: 18px"><span style="font-size: 14px">7:30 am - Breakfast</span></span></span></strong><br />\n	<span style="font-size: 16px"><span style="font-size: 18px"><span style="font-size: 14px">Mix &amp\; mingle with member and their guests from the Hartford\, Germantown &amp\; West Bend Area Chambers of Commerce<br />\n	<br />\n	<strong>8:00 am - :30 Commercial Introductions</strong><br />\n	Share a 30 second commercial to introduce your business and promote your products or services<br />\n	<br />\n	<strong>8:40 am - Success Stories</strong><br />\n	Extend a thank you or share your business success from WIN networking!<br />\n	<br />\n	<strong>8:50 am - Business Request</strong><br />\n	Make your outrageous business-related requests!<br />\n	<br />\n	<strong>Registration Required!<br />\n	<br />\n	<span style="color: #ff0000">SAVE! RSVP by October 16</span></strong><br />\n	$10 Chamber Members<br />\n	$20 non-Chamber Members<br />\n	<br />\n	After deadline\, cost is:<br />\n	$12 Chamber Members<br />\n	$22 non-Chamber Members</span></span></span><br />\n	&nbsp\;</p>\n
LOCATION:Barley Pop Pub N116 N16137 Main Street Germantown\, WI 53022
UID:e.898.1621
SEQUENCE:3
DTSTAMP:20260422T161927Z
URL:https://business.hartfordareachamber.org/events/details/win-october-2012-10-19-2012-1621
END:VEVENT

END:VCALENDAR
