BEGIN:VCALENDAR
VERSION:2.0
PRODID:-//ChamberMaster//Event Calendar 2.0//EN
METHOD:PUBLISH
X-PUBLISHED-TTL:P3D
REFRESH-INTERVAL:P3D
CALSCALE:GREGORIAN
BEGIN:VEVENT
DTSTART:20130920T123000Z
DTEND:20130920T140000Z
X-MICROSOFT-CDO-ALLDAYEVENT:FALSE
SUMMARY:WIN - September 2013
DESCRIPTION:Increase your Contacts in Washington County\n\n& Build your Business Network!\n\n \n\nWIN\n\nWashington County Interactive Networking\n\nFriday\, September 20\, 2013\n\n\n\nhosted by\n\n\n\nCedar Community\n\nTop of the Ridge Restaurant\n\n113 Cedar Ridge Drive\n\nWest Bend\n\n\n\nDirections:\n\nFrom Hwy 45 Bypass\, exit at Hwy 33 (Washington Street). Travel west to Scenic Drive.  Turn left (south) on Scenic Drive and travel to Cedar Ridge Drive. Turn left (east) and park in main parking lot.  Enter building in center of complex at main entrance under carport.\n\n\n\nWhen inside\, take elevator to third floor.  Turn right off of elevator and another right to the Top of the Ridge Restaurant.\n\n\n\n\n\n\n\n\n\n7:30 am - Breakfast\n\nMix & mingle with member and their guests from the Hartford\, Germantown & West Bend Area Chambers of Commerce\n\n\n\n8:00 am - :30 Commercial Introductions\n\nShare a 30 second commercial to introduce your business and promote your products or services\n\n\n\n8:40 am - Success Stories\n\nExtend a thank you or share your business success from WIN networking!\n\n\n\n8:50 am - Business Request\n\nMake your outrageous business-related requests!\n\n\n\n \n\n$15 Chamber Members\n\nSAVE! Early Bird\n\nregister by September 13\, 5 pm\n\nMembers only $12\n\n\n\n$25 for Non-Chamber Members
X-ALT-DESC;FMTTYPE=text/html:<p><strong><span style="color: rgb(178\, 34\, 34)\;">Increase your Contacts in Washington County<br />\n&amp\; Build your Business Network!</span></strong><br />\n&nbsp\;<br />\n<span style="font-size: 28px\;"><strong><span style="font-family: arial\;">WIN</span></strong></span><br />\n<strong><span style="font-size: 16px\;">Washington County Interactive Networking</span></strong><br />\n<span style="font-size: 16px\;">Friday\,&nbsp\;September 20\, 2013</span><br />\n<br />\n<em><font size="3"><span style="font-size: 14px\;"><span style="font-size: 16px\;"><span style="font-size: 14px\;"><span style="font-size: 16px\;"><span style="font-size: 12px\;">hosted by</span></span></span></span></span></font></em><br />\n<br />\n<span style="font-size: 14px\;"><span style="font-size: 16px\;">Cedar Community<br />\nTop of the Ridge Restaurant<br />\n<span style="font-size: 12px\;">113 Cedar Ridge Drive<br />\nWest Bend<br />\n<br />\nDirections:<br />\nFrom Hwy 45 Bypass\, exit at Hwy 33 (Washington Street). Travel west to Scenic Drive.&nbsp\; Turn left (south) on Scenic Drive and travel to Cedar Ridge Drive. Turn left (east) and park in main parking lot.&nbsp\; Enter building in center of complex at main entrance under carport.<br />\n<br />\nWhen inside\, take elevator to third floor.&nbsp\; Turn right off of elevator and another right to the Top of the Ridge Restaurant.</span></span></span><br />\n<br />\n<br />\n<br />\n<br />\n<strong><span style="font-size: 16px\;"><span style="font-size: 18px\;"><span style="font-size: 14px\;">7:30 am - Breakfast</span></span></span></strong><br />\n<span style="font-size: 16px\;"><span style="font-size: 18px\;"><span style="font-size: 14px\;">Mix &amp\; mingle with member and their guests from the Hartford\, Germantown &amp\; West Bend Area Chambers of Commerce<br />\n<br />\n<strong>8:00 am - :30 Commercial Introductions</strong><br />\nShare a 30 second commercial to introduce your business and promote your products or services<br />\n<br />\n<strong>8:40 am - Success Stories</strong><br />\nExtend a thank you or share your business success from WIN networking!<br />\n<br />\n<strong>8:50 am - Business Request</strong><br />\nMake your outrageous business-related requests!<br />\n<br />\n&nbsp\;</span></span></span></p>\n\n<p><strong><span style="font-size: 16px\;"><span style="font-size: 18px\;"><span style="font-size: 14px\;">$15 Chamber Members</span></span></span></strong></p>\n\n<p><span style="font-size: 16px\;"><span style="font-size: 18px\;"><span style="font-size: 14px\;"><strong>SAVE! Early Bird</strong><br />\nregister by&nbsp\;September 13\, 5 pm<br />\nMembers only $12<br />\n<br />\n$25 for Non-Chamber Members</span></span></span></p>\n
LOCATION:held at Cedar Community Top of the Ridge 113 Cedar Ridge Drive West Bend Directions: From Hwy 45 Bypass\, exit at Hwy 33 (Washington Street). Travel west to Scenic Drive. Turn left (south) on Scenic Drive and travel to Cedar Ridge Drive. Turn left (east) and park in main parking lot. Enter building in center of complex at main entrance under carport. When inside\, take elevator to third floor. Turn right off of elevator and another right to the Top of the Ridge Restaurant.
UID:e.898.1829
SEQUENCE:3
DTSTAMP:20260421T215146Z
URL:https://business.hartfordareachamber.org/events/details/win-september-2013-09-20-2013-1829
END:VEVENT

END:VCALENDAR
