BEGIN:VCALENDAR
VERSION:2.0
PRODID:-//ChamberMaster//Event Calendar 2.0//EN
METHOD:PUBLISH
X-PUBLISHED-TTL:P3D
REFRESH-INTERVAL:P3D
CALSCALE:GREGORIAN
BEGIN:VEVENT
DTSTART:20131016T223000Z
DTEND:20131017T010000Z
X-MICROSOFT-CDO-ALLDAYEVENT:FALSE
SUMMARY:Wine & Painting at the Schauer Center
DESCRIPTION:Join us for an evening of Jazz\, Wine & Painting!\n\nWednesday\, October 16\n\n5:30 - 8 pm\n\nSchauer Arts & Activities Center\n\n147 N. Rural Street\, Hartford\n\n\n\nDrink specials & light hors d'oeuvres from 6 to 8 pm\n\nComplimentary soda and water.\n\n  \n\nKick-off Event Special Price: $25/per person\n\nChamber Members Special $15 \n\n\n\nPerformances by Jazz Guitarist Perry Warren \n\nWine & Painting with Artist Cammie Walters \n\n\n\nPainting Title: Holy Hill\n\nOriginal Artist: Camille Walters\n\nMedium: Acrylic on Canvas\n\nSize: 16" x 20"\n\nInstructor: Camille Walters\n\nLocation: Schauer Center Art Gallery\n\n\n\nCome paint the historical landmark that gets over 500\,000 visitors from all over the world annually! Paint Holy Hill with a professional artist to guide you along the way. You will create a lasting memory and the painting you create will be yours to keep. The instructor will get you started with your background\, and sky and stay with you until you are finished with the last detail. You will have more fun than you ever thought possible and you'll learn some tips and tricks along the way too. You'll also get to see painting demonstrations from the artist who created the painting.\n\n\n\nWays to register:\n\nOnline: SchauerCenter.org/CSA\n\nIn-Person: Monday to Friday 11:30-5:30 pm and Saturday 11:30-2:00 pm\, 147 N. Rural St\, Hartford\, WI 53027\n\nPhone: 262-670-0560\, ext. 204\n\nQuestions: Email us at Classes@SchauerCenter.org or contact us at 262-670-0560\, ext. 204\n\n\n\nVisit our Facebook link for the event: https://www.facebook.com/events/600325943362816/
X-ALT-DESC;FMTTYPE=text/html:<span style="font-size: 12px\;"><span style="font-family: arial\;"><span style="font-size: 18px\;"><strong><span style="font-weight: bold\;"><span style="font-weight: bold\; language: EN\;"><span style="font-family: candara\;">Join us for an evening of Jazz\, Wine &amp\; Painting!</span></span></span></strong></span><br />\n<span style="font-weight: bold\;"><span style="font-size: 16px\;"><span style="font-size: 12px\;"><strong>Wednesday\, October 16</strong><br />\n5:30 - 8 pm<br />\n<strong>Schauer Arts &amp\; Activities Center</strong><br />\n147 N. Rural Street\, Hartford</span></span><br />\n<br />\n<span style="font-weight: bold\; language: EN\;">Drink specials &amp\; light hors d&rsquo\;oeuvres from 6 to 8 pm</span></span></span><br />\n<span style="font-weight: bold\;"><span style="font-weight: bold\; language: EN\;">Complimentary soda and water.</span></span><br />\n<span style="font-family: arial\;"><span style="font-weight: bold\;"><span style="font-size: 16px\;"><span style="font-size: 12px\;">&nbsp\;&nbsp\;</span></span></span><br />\n<strong><span style="font-weight: bold\;">Kick-off Event Special Price:</span></strong> $25/per person<br />\nChamber Members Special $15&nbsp\;<br />\n<br />\n<strong><span style="font-weight: bold\; language: EN\;">Performances by Jazz Guitarist Perry Warren </span><br />\n<span style="font-weight: bold\; language: EN\;">Wine &amp\; Painting with Artist Cammie Walters</span></strong>&nbsp\;<br />\n<br />\n<strong><span style="font-weight: bold\;"><span style="font-weight: bold\;">Painting Title:</span> Holy Hill<br />\nOriginal Artist:</span></strong> Camille Walters<br />\n<strong><span style="font-weight: bold\;">Medium:</span></strong> Acrylic on Canvas<br />\n<strong><span style="font-weight: bold\;">Size:</span></strong> 16&quot\; x 20&quot\;<br />\n<strong><span style="font-weight: bold\;">Instructor:</span></strong> Camille Walters<br />\n<strong><span style="font-weight: bold\;">Location:</span></strong> Schauer Center Art Gallery<br />\n<br />\nCome paint the historical landmark that gets over 500\,000 visitors from all over the world annually! Paint Holy Hill with a professional artist to guide you along the way. You will create a lasting memory and the painting you create will be yours to keep. The instructor will get you started with your background\, and sky and stay with you until you are finished with the last detail. You will have more fun than you ever thought possible and you&#39\;ll learn some tips and tricks along the way too. You&#39\;ll also get to see painting demonstrations from the artist who created the painting.<br />\n<br />\n<u>Ways to register:</u><br />\n<strong><span style="font-weight: bold\;">Online:</span></strong> SchauerCenter.org/CSA<br />\n<strong><span style="font-weight: bold\;">In-Person:</span></strong> Monday to Friday 11:30-5:30 pm and Saturday 11:30-2:00 pm\, 147 N. Rural St\, Hartford\, WI 53027<br />\n<strong><span style="font-weight: bold\;">Phone:</span></strong> 262-670-0560\, ext. 204<br />\n<strong><span style="font-weight: bold\;">Questions:</span></strong> Email us at Classes@SchauerCenter.org or contact us at 262-670-0560\, ext. 204</span></span><br />\n<br clear="all" />\nVisit our Facebook link for the event: <a href="https://www.facebook.com/events/600325943362816/" title="https://www.facebook.com/events/600325943362816/"><span style="color: rgb(0\, 0\, 255)\;">https://www.facebook.com/events/600325943362816/</span></a><br />\n<br />\n
LOCATION:Schauer Arts & Activities Center 147 N. Rural Street Hartford\, WI 53027
UID:e.898.2826
SEQUENCE:3
DTSTAMP:20260421T201931Z
URL:https://business.hartfordareachamber.org/events/details/wine-painting-at-the-schauer-center-10-16-2013-2826
END:VEVENT

END:VCALENDAR
