BEGIN:VCALENDAR
VERSION:2.0
PRODID:-//ChamberMaster//Event Calendar 2.0//EN
METHOD:PUBLISH
X-PUBLISHED-TTL:P3D
REFRESH-INTERVAL:P3D
CALSCALE:GREGORIAN
BEGIN:VEVENT
DTSTART:20190726T150000Z
DTEND:20190726T230000Z
X-MICROSOFT-CDO-ALLDAYEVENT:FALSE
SUMMARY:Winery Bus Trip
DESCRIPTION:Don't miss this fun event! Our first stop is Armstrong Apples Orchard & Winery for wine sampling and shopping. Next\, we'll dine on Vines & Rushes Winery's signature wood-fired brick oven pizza and taste their wines. Finally\, sample wines at The Blind Horse paired with your choice of cheeses or chocolates. $75 per person Price includes: transportation\, wines samples and pairings\, and lunch. Bus leaves from The History Center\, West Bend.
X-ALT-DESC;FMTTYPE=text/html:Don&#39\;t miss this fun event! Our first stop is Armstrong Apples Orchard &amp\; Winery for wine sampling and shopping. Next\, we&#39\;ll dine on Vines &amp\; Rushes Winery&#39\;s signature wood-fired brick oven pizza and taste their wines. Finally\, sample wines at The Blind Horse paired with your choice of cheeses or chocolates. $75 per person Price includes: transportation\, wines samples and pairings\, and lunch. Bus leaves from The History Center\, West Bend.
LOCATION:Bus leaves from The History Center\, West Bend 320 S 5th Ave West Bend WI 53095
UID:e.898.5932
SEQUENCE:3
DTSTAMP:20260419T151121Z
URL:https://business.hartfordareachamber.org/events/details/winery-bus-trip-5932
END:VEVENT

END:VCALENDAR
