BEGIN:VCALENDAR
VERSION:2.0
PRODID:-//ChamberMaster//Event Calendar 2.0//EN
METHOD:PUBLISH
X-PUBLISHED-TTL:P3D
REFRESH-INTERVAL:P3D
CALSCALE:GREGORIAN
BEGIN:VEVENT
DTSTART:20190502T160000Z
DTEND:20190502T170000Z
X-MICROSOFT-CDO-ALLDAYEVENT:FALSE
SUMMARY:Wisconsin Medals Lunch-n-Learn
DESCRIPTION:Author\, collector\, and amateur historian Fred Borgmann shares his knowledge of military and non-military medals. Fred will discuss medals issued by the Wisconsin National Guard\, military issues from the pre-civil war militia through WWII\, ROTC awards\, and non-military medals.
X-ALT-DESC;FMTTYPE=text/html:Author\, collector\, and amateur historian Fred Borgmann shares his knowledge of military and non-military medals. Fred will discuss medals issued by the Wisconsin National Guard\, military issues from the pre-civil war militia through WWII\, ROTC awards\, and non-military medals.
LOCATION:The History Center Washington County 320 S 5th Ave West Bend WI 53095
UID:e.898.5906
SEQUENCE:3
DTSTAMP:20260419T164718Z
URL:https://business.hartfordareachamber.org/events/details/wisconsin-medals-lunch-n-learn-5906
END:VEVENT

END:VCALENDAR
