BEGIN:VCALENDAR
VERSION:2.0
PRODID:-//ChamberMaster//Event Calendar 2.0//EN
METHOD:PUBLISH
X-PUBLISHED-TTL:P3D
REFRESH-INTERVAL:P3D
CALSCALE:GREGORIAN
BEGIN:VEVENT
DTSTART:20120616T170000Z
DTEND:20120616T200000Z
X-MICROSOFT-CDO-ALLDAYEVENT:FALSE
SUMMARY:Wonders of Magic with David Seebach
DESCRIPTION:Wonders of Magic\n\nwith David Seebach\n\n\n\nFamily Magic Show in the Garden!\n\n(Show begins at 1 pm)\n\n\n\nRefreshments & Food:\n\nProceeds benefit\n\nLiving Word Lutheran High School\n\n\n\nBring your whole family!\n\n\n\nEvents held at Lamm Gardens\, rain or shine!\n\nTent provided\, bring lawn chairs & blankets\n\n\n\n$15/person per day OR Weekend Special: 2 day for $20\n\nChildren 10 yrs & under FREE (must be accompanied by adult)\n\n\n\nLammscapes!  2708 Sherman Road\, Jackson 53037 - 262-677-3010
X-ALT-DESC;FMTTYPE=text/html:<strong><span style="font-size: 18px">Wonders of Magic<br />\nwith David Seebach</span></strong><br />\n<br />\n<strong>Family Magic Show in the Garden!</strong><br />\n(Show begins at 1 pm)<br />\n<br />\nRefreshments &amp\; Food:<br />\nProceeds benefit<br />\nLiving Word Lutheran High School<br />\n<br />\nBring your whole family!<br />\n<br />\nEvents held at Lamm Gardens\, rain or shine!<br />\nTent provided\, bring lawn chairs &amp\; blankets<br />\n<br />\n$15/person per day OR Weekend Special: 2 day for $20<br />\nChildren 10 yrs &amp\; under FREE (must be accompanied by adult)<br />\n<br />\nLammscapes!&nbsp\; 2708 Sherman Road\, Jackson 53037 - 262-677-3010
LOCATION:
UID:e.898.1291
SEQUENCE:3
DTSTAMP:20260422T223629Z
URL:https://business.hartfordareachamber.org/events/details/wonders-of-magic-with-david-seebach-06-16-2012-1291
END:VEVENT

END:VCALENDAR
