BEGIN:VCALENDAR
VERSION:2.0
PRODID:-//ChamberMaster//Event Calendar 2.0//EN
METHOD:PUBLISH
X-PUBLISHED-TTL:P3D
REFRESH-INTERVAL:P3D
CALSCALE:GREGORIAN
BEGIN:VEVENT
DTSTART:20260418T140000Z
DTEND:20260418T170000Z
X-MICROSOFT-CDO-ALLDAYEVENT:FALSE
SUMMARY:Work Play Earth Day
DESCRIPTION:Join us to refresh the property after the quiet winter months. The group will be split up based on personal preference for a variety of different activities:\n\n\n	Plant trees\n	Paint and/or repair picnic tables\n	Clear litter from the day-use area and from roadways\n	Clear brush\, downed limbs\, sticks\n	Remove invasive species\n\n\nBe sure to dress for the weather and bring work gloves if you have them. Boots are encouraged due to the likelihood of mud.
X-ALT-DESC;FMTTYPE=text/html:<p>Join us to refresh the property after the quiet winter months. The group will be split up based on personal preference for a variety of different activities:</p>\n\n<ul>\n	<li>Plant trees</li>\n	<li>Paint and/or repair picnic tables</li>\n	<li>Clear litter from the day-use area and from roadways</li>\n	<li>Clear brush\, downed limbs\, sticks</li>\n	<li>Remove invasive species</li>\n</ul>\n\n<p>Be sure to dress for the weather and bring work gloves if you have them. Boots are encouraged due to the likelihood of mud.</p>\n
LOCATION:Meet at the Beach
UID:e.898.8324
SEQUENCE:3
DTSTAMP:20260424T073305Z
URL:https://business.hartfordareachamber.org/events/details/work-play-earth-day-8324
END:VEVENT

END:VCALENDAR
