BEGIN:VCALENDAR
VERSION:2.0
PRODID:-//ChamberMaster//Event Calendar 2.0//EN
METHOD:PUBLISH
X-PUBLISHED-TTL:P3D
REFRESH-INTERVAL:P3D
CALSCALE:GREGORIAN
BEGIN:VEVENT
DTSTART:20130321T140000Z
DTEND:20130321T180000Z
X-MICROSOFT-CDO-ALLDAYEVENT:FALSE
SUMMARY:WTKM Senior Fair
DESCRIPTION:104.9 WTKM Senior Fair\n\nThursday\, March 21\n\n9:00 am - 1:00 pm\n\nHartford Senior Center\n\n\n\nVisit the many vendor booths with information for seniors.\n\n\n\nEnjoy seminars that improve your life\, presented by dentists\, attorneys\, health care providers\, insurance representatives\, and many more.\n\n\n\nFREE BINGO starts at 1:30 pm!\n\n\n\nFREE ADMISSION !
X-ALT-DESC;FMTTYPE=text/html:104.9 WTKM Senior Fair<br />\nThursday\, March 21<br />\n9:00 am&nbsp\;- 1:00 pm<br />\nHartford Senior Center<br />\n<br />\nVisit the many vendor booths with information for seniors.<br />\n<br />\nEnjoy seminars that improve your life\, presented by dentists\, attorneys\, health care providers\, insurance representatives\, and many more.<br />\n<br />\nFREE BINGO&nbsp\;starts at 1:30 pm!<br />\n<br />\nFREE ADMISSION&nbsp\;!&nbsp\;&nbsp\;&nbsp\;
LOCATION:Hartford Senior Center 730 Highland Avenue\, Hartford
UID:e.898.1783
SEQUENCE:3
DTSTAMP:20260422T072732Z
URL:https://business.hartfordareachamber.org/events/details/wtkm-senior-fair-03-21-2013-1783
END:VEVENT

END:VCALENDAR
